BEGIN:VCALENDAR
VERSION:2.0
PRODID:-//Lisa Badum - ECPv6.3.1//NONSGML v1.0//EN
CALSCALE:GREGORIAN
METHOD:PUBLISH
X-WR-CALNAME:Lisa Badum
X-ORIGINAL-URL:https://www.lisa-badum.de
X-WR-CALDESC:Veranstaltungen für Lisa Badum
REFRESH-INTERVAL;VALUE=DURATION:PT1H
X-Robots-Tag:noindex
X-PUBLISHED-TTL:PT1H
BEGIN:VTIMEZONE
TZID:Europe/Berlin
BEGIN:DAYLIGHT
TZOFFSETFROM:+0100
TZOFFSETTO:+0200
TZNAME:CEST
DTSTART:20190331T010000
END:DAYLIGHT
BEGIN:STANDARD
TZOFFSETFROM:+0200
TZOFFSETTO:+0100
TZNAME:CET
DTSTART:20191027T010000
END:STANDARD
END:VTIMEZONE
BEGIN:VEVENT
DTSTART;VALUE=DATE:20191014
DTEND;VALUE=DATE:20191019
DTSTAMP:20260421T155332
CREATED:20190822T111522Z
LAST-MODIFIED:20190822T111522Z
UID:5660-1571011200-1571443199@www.lisa-badum.de
SUMMARY:Sitzungswoche
DESCRIPTION:
URL:https://www.lisa-badum.de/termin/sitzungswoche-24/
END:VEVENT
BEGIN:VEVENT
DTSTART;VALUE=DATE:20191019
DTEND;VALUE=DATE:20191021
DTSTAMP:20260421T155332
CREATED:20190822T112551Z
LAST-MODIFIED:20190822T112604Z
UID:5674-1571443200-1571615999@www.lisa-badum.de
SUMMARY:LDK in Lindau
DESCRIPTION:
URL:https://www.lisa-badum.de/termin/ldk-in-lindau/
END:VEVENT
BEGIN:VEVENT
DTSTART;VALUE=DATE:20191021
DTEND;VALUE=DATE:20191026
DTSTAMP:20260421T155332
CREATED:20190822T111555Z
LAST-MODIFIED:20190822T111744Z
UID:5662-1571616000-1572047999@www.lisa-badum.de
SUMMARY:Sitzungswoche
DESCRIPTION:
URL:https://www.lisa-badum.de/termin/sitzungswoche-25/
END:VEVENT
BEGIN:VEVENT
DTSTART;TZID=Europe/Berlin:20191026T100000
DTEND;TZID=Europe/Berlin:20191026T130000
DTSTAMP:20260421T155332
CREATED:20190822T112716Z
LAST-MODIFIED:20190822T112716Z
UID:5676-1572084000-1572094800@www.lisa-badum.de
SUMMARY:Bürger*innensprechstunde in Coburg
DESCRIPTION:
URL:https://www.lisa-badum.de/termin/buergerinnensprechstunde-in-coburg-2/
LOCATION:Grünes Büro Coburg\, Steintor 1\, Coburg\, 96450\, Deutschland
END:VEVENT
BEGIN:VEVENT
DTSTART;VALUE=DATE:20191027
DTEND;VALUE=DATE:20191028
DTSTAMP:20260421T155332
CREATED:20190822T112738Z
LAST-MODIFIED:20190822T112739Z
UID:5678-1572134400-1572220799@www.lisa-badum.de
SUMMARY:Landtagswahl in Thüringen
DESCRIPTION:
URL:https://www.lisa-badum.de/termin/landtagswahl-in-thueringen/
END:VEVENT
END:VCALENDAR