BEGIN:VCALENDAR
VERSION:2.0
PRODID:-//Lisa Badum - ECPv6.3.1//NONSGML v1.0//EN
CALSCALE:GREGORIAN
METHOD:PUBLISH
X-ORIGINAL-URL:https://www.lisa-badum.de
X-WR-CALDESC:Veranstaltungen für Lisa Badum
REFRESH-INTERVAL;VALUE=DURATION:PT1H
X-Robots-Tag:noindex
X-PUBLISHED-TTL:PT1H
BEGIN:VTIMEZONE
TZID:Europe/Berlin
BEGIN:DAYLIGHT
TZOFFSETFROM:+0100
TZOFFSETTO:+0200
TZNAME:CEST
DTSTART:20190331T010000
END:DAYLIGHT
BEGIN:STANDARD
TZOFFSETFROM:+0200
TZOFFSETTO:+0100
TZNAME:CET
DTSTART:20191027T010000
END:STANDARD
END:VTIMEZONE
BEGIN:VEVENT
DTSTART;TZID=Europe/Berlin:20190801T100000
DTEND;TZID=Europe/Berlin:20190801T120000
DTSTAMP:20260421T192229
CREATED:20190704T112555Z
LAST-MODIFIED:20190704T112555Z
UID:5315-1564653600-1564660800@www.lisa-badum.de
SUMMARY:GAL Sommerprogramm 2019: Frauenfrühstück
DESCRIPTION:Frauenfrühstück mit Lisa Badum\, MdB \n  \nWie kann ich mich als Frau behaupten? Wie kann ich mich in der Kommunalpolitik selbstbewusst einbringen und auch in Männerrunden sicher auftreten? Und wie kann Gleichstellung im Alltag umgesetzt werden\, ohne Männer vor den Kopf zu stoßen und sie im besten Fall sogar mit ins Boot zu holen? Das möchte Lisa Badum bei einem leckeren Frühstück mit euch bereden\, das ein oder andere Werkzeug an die Hand geben\, Fragen beantworten und auch von ihrem Alltag als junge Politikerin im Bundestag erzählen\, mit all seinen Hürden und Highlights.
URL:https://www.lisa-badum.de/termin/gal-sommerprogramm-2019-frauenfruehstueck/
END:VEVENT
BEGIN:VEVENT
DTSTART;VALUE=DATE:20190812
DTEND;VALUE=DATE:20190826
DTSTAMP:20260421T192229
CREATED:20190704T112924Z
LAST-MODIFIED:20190704T112924Z
UID:5319-1565568000-1566777599@www.lisa-badum.de
SUMMARY:Sommerpause
DESCRIPTION:
URL:https://www.lisa-badum.de/termin/sommerpause/
END:VEVENT
END:VCALENDAR