BEGIN:VCALENDAR
VERSION:2.0
PRODID:-//Lisa Badum - ECPv6.3.1//NONSGML v1.0//EN
CALSCALE:GREGORIAN
METHOD:PUBLISH
X-ORIGINAL-URL:https://www.lisa-badum.de
X-WR-CALDESC:Veranstaltungen für Lisa Badum
REFRESH-INTERVAL;VALUE=DURATION:PT1H
X-Robots-Tag:noindex
X-PUBLISHED-TTL:PT1H
BEGIN:VTIMEZONE
TZID:Europe/Berlin
BEGIN:DAYLIGHT
TZOFFSETFROM:+0100
TZOFFSETTO:+0200
TZNAME:CEST
DTSTART:20190331T010000
END:DAYLIGHT
BEGIN:STANDARD
TZOFFSETFROM:+0200
TZOFFSETTO:+0100
TZNAME:CET
DTSTART:20191027T010000
END:STANDARD
END:VTIMEZONE
BEGIN:VEVENT
DTSTART;VALUE=DATE:20190603
DTEND;VALUE=DATE:20190608
DTSTAMP:20260421T230717
CREATED:20190520T092134Z
LAST-MODIFIED:20190520T092135Z
UID:5069-1559520000-1559951999@www.lisa-badum.de
SUMMARY:Sitzungswoche
DESCRIPTION:
URL:https://www.lisa-badum.de/termin/sitzungswoche-21/
END:VEVENT
BEGIN:VEVENT
DTSTART;TZID=Europe/Berlin:20190603T160000
DTEND;TZID=Europe/Berlin:20190603T181500
DTSTAMP:20260421T230717
CREATED:20190520T085224Z
LAST-MODIFIED:20190520T085224Z
UID:5048-1559577600-1559585700@www.lisa-badum.de
SUMMARY:Fachgespräch: Klimaschutz den Boden bereiten
DESCRIPTION:Die Klimawende ist in der Agrarpolitik noch immer nicht angekommen. Seit 2000 stagniert der Ausstoß von Treibhausgasen im Agrarbereich. Eine Trendwende ist nicht in Sicht. Im Rahmen des geplanten Klimaschutzgesetzes muss die zuständige Landwirtschaftsministerin Julia Klöckner die Karten auf den Tisch legen: Wie kann der Landwirtschaftssektor seinen Beitrag zum Klimaschutz leisten und wie kann dies im geplanten Klimaschutzgesetz verankert werden? Nach dem Dürresommer letztes Jahr kann es kein Wegschauen mehr geben. \n\n\n\n\n\n  \nDie Agrarministerin präsentiert sich gerne als „Klassenprimus“ im neuen „Klimakabinett“. Zur dessen erster Sitzung Anfang April legte Klöckner einen 10-Punkte-Plan für die Landwirtschaft vor. Mit den vorgelegten Maßnahmen sollen die landwirtschaftsbedingten Klimagase so gesenkt werden\, dass die nationalen Klimaziele der Bundesregierung für das Jahr 2030 erreicht werden können. \n  \nDoch reichen diese Vorschläge der Ministerin wirklich aus\, um den Ausstoß von Treibhausgasen entscheidend zu senken? \nWelche Chance birgt ein Klimaschutzgesetz für den Agrarsektor? Und an welchen politischen Stellschrauben muss noch gedreht werden\, um die Landwirtschaft in Deutschland klimafreundlicher zu gestalten? \nZusammen mit Expert*innen möchten wir die Vorschläge und die weiteren Schritte auf dem Weg zum Klimaschutzgesetz in der Landwirtschaft diskutieren.
URL:https://www.lisa-badum.de/termin/fachgespraech-klimaschutz-den-boden-bereiten/
LOCATION:Paul-Löbe-Haus\, Konrad-Adenauer-Str. 1\, Berlin\, Berlin\, 10557\, Deutschland
END:VEVENT
BEGIN:VEVENT
DTSTART;TZID=Europe/Berlin:20190608T160000
DTEND;TZID=Europe/Berlin:20190608T180000
DTSTAMP:20260421T230717
CREATED:20190520T092324Z
LAST-MODIFIED:20190520T092324Z
UID:5071-1560009600-1560016800@www.lisa-badum.de
SUMMARY:CC-Gegendemo in Coburg
DESCRIPTION:
URL:https://www.lisa-badum.de/termin/cc-gegendemo-in-coburg/
END:VEVENT
BEGIN:VEVENT
DTSTART;VALUE=DATE:20190612
DTEND;VALUE=DATE:20190615
DTSTAMP:20260421T230717
CREATED:20190520T092039Z
LAST-MODIFIED:20190520T092057Z
UID:5066-1560297600-1560556799@www.lisa-badum.de
SUMMARY:Berlinfahrt
DESCRIPTION:Alle Plätze sind bereits vergeben.
URL:https://www.lisa-badum.de/termin/berlinfahrt/
END:VEVENT
BEGIN:VEVENT
DTSTART;TZID=Europe/Berlin:20190614T080000
DTEND;TZID=Europe/Berlin:20190614T170000
DTSTAMP:20260421T230717
CREATED:20190520T091959Z
LAST-MODIFIED:20190520T091959Z
UID:5064-1560499200-1560531600@www.lisa-badum.de
SUMMARY:Waldschutzkonferenz
DESCRIPTION:Konferenz „Die Lunge des Planeten retten – Waldschutz zwischen Berlin und Brasilien“\n\nFreitag\, 14. Juni 2019\, 12:00 – 19:00 Uhr\n\nDeutscher Bundestag\, Paul-Löbe-Haus\n\n\n\n\nDie anhaltende globale Waldvernichtung ist eine der großen Bedrohungen der Gegenwart. Trotz der enormen Bedeutung des Waldes für die Artenvielfalt und den Klimaschutz werden jährlich Wälder in der Größe Polens abgeholzt. Gleichzeitig bedroht die Klimakrise unsere heimischen Wälder in ihrer Existenz. \n\n\nUm unsere Lebensgrundlagen zu bewahren und die Erde auch zukünftigen Generationen intakt zu hinterlassen\, muss der weltweite Waldverlust gestoppt werden. Wälder sind starke Verbündete im Klimaschutz. Sie sind vielfältige Lebensräume und riesige Kohlenstoffspeicher\, die nachhaltig genutzt werden müssen. Naturnahe Wälder in Deutschland müssen gefördert werden. \n  \nIm Rahmen der Konferenz möchten wir mit Ihnen und internationalen Fachleuten aus Wissenschaft\, Zivilgesellschaft und Politik diskutieren\, welche Lösungsansätze und Maßnahmen nötig sind\, um die Lunge des Planeten dauerhaft zu erhalten. \n  \nSie finden die Konferenz auf unserer Website https://www.gruene-bundestag.de/no_cache/termin/die-lunge-des-planeten-retten-waldschutz-zwischen-berlin-und-brasilien.html \nEin Programm folgt in Kürze. Die Online-Anmeldung <https://www.gruene-bundestag.de/anmeldungen/online-anmeldungen/waldkonferenz.htmlist bis zum 06. Juni 2019 möglich.
URL:https://www.lisa-badum.de/termin/waldschutzkonferenz/
LOCATION:Paul-Löbe-Haus Berlin
END:VEVENT
BEGIN:VEVENT
DTSTART;VALUE=DATE:20190620
DTEND;VALUE=DATE:20190624
DTSTAMP:20260421T230717
CREATED:20190520T092511Z
LAST-MODIFIED:20190520T092511Z
UID:5073-1560988800-1561334399@www.lisa-badum.de
SUMMARY:Ende Gelände Aktion
DESCRIPTION:
URL:https://www.lisa-badum.de/termin/ende-gelaende-aktion/
END:VEVENT
BEGIN:VEVENT
DTSTART;VALUE=DATE:20190624
DTEND;VALUE=DATE:20190629
DTSTAMP:20260421T230717
CREATED:20190520T092551Z
LAST-MODIFIED:20190520T092551Z
UID:5075-1561334400-1561766399@www.lisa-badum.de
SUMMARY:Sitzungswoche
DESCRIPTION:
URL:https://www.lisa-badum.de/termin/sitzungswoche-22/
END:VEVENT
BEGIN:VEVENT
DTSTART;TZID=Europe/Berlin:20190629T160000
DTEND;TZID=Europe/Berlin:20190629T190000
DTSTAMP:20260421T230717
CREATED:20190520T092716Z
LAST-MODIFIED:20190520T092716Z
UID:5077-1561824000-1561834800@www.lisa-badum.de
SUMMARY:Bayerntour: Lisa unterwegs in Miltenberg
DESCRIPTION:
URL:https://www.lisa-badum.de/termin/bayerntour-lisa-unterwegs-in-miltenberg/
END:VEVENT
END:VCALENDAR