BEGIN:VCALENDAR
VERSION:2.0
PRODID:-//Lisa Badum - ECPv6.3.1//NONSGML v1.0//EN
CALSCALE:GREGORIAN
METHOD:PUBLISH
X-ORIGINAL-URL:https://www.lisa-badum.de
X-WR-CALDESC:Veranstaltungen für Lisa Badum
REFRESH-INTERVAL;VALUE=DURATION:PT1H
X-Robots-Tag:noindex
X-PUBLISHED-TTL:PT1H
BEGIN:VTIMEZONE
TZID:Europe/Berlin
BEGIN:DAYLIGHT
TZOFFSETFROM:+0100
TZOFFSETTO:+0200
TZNAME:CEST
DTSTART:20190331T010000
END:DAYLIGHT
BEGIN:STANDARD
TZOFFSETFROM:+0200
TZOFFSETTO:+0100
TZNAME:CET
DTSTART:20191027T010000
END:STANDARD
END:VTIMEZONE
BEGIN:VEVENT
DTSTART;VALUE=DATE:20190502
DTEND;VALUE=DATE:20190503
DTSTAMP:20260422T005930
CREATED:20190328T111357Z
LAST-MODIFIED:20190328T111357Z
UID:4358-1556755200-1556841599@www.lisa-badum.de
SUMMARY:Frühjahrsklausur der MdBs
DESCRIPTION:Potsdam
URL:https://www.lisa-badum.de/termin/fruehjahrsklausur-der-mdbs/
END:VEVENT
BEGIN:VEVENT
DTSTART;VALUE=DATE:20190504
DTEND;VALUE=DATE:20190506
DTSTAMP:20260422T005930
CREATED:20190328T111456Z
LAST-MODIFIED:20190328T111456Z
UID:4360-1556928000-1557100799@www.lisa-badum.de
SUMMARY:GRIBS Kongress
DESCRIPTION:
URL:https://www.lisa-badum.de/termin/gribs-kongress/
LOCATION:Kloster Plankstetten
END:VEVENT
BEGIN:VEVENT
DTSTART;VALUE=DATE:20190505
DTEND;VALUE=DATE:20190506
DTSTAMP:20260422T005930
CREATED:20190212T103311Z
LAST-MODIFIED:20190212T103311Z
UID:4078-1557014400-1557100799@www.lisa-badum.de
SUMMARY:Internationaler Hebammentag
DESCRIPTION:
URL:https://www.lisa-badum.de/termin/internationaler-hebammentag/
END:VEVENT
BEGIN:VEVENT
DTSTART;VALUE=DATE:20190506
DTEND;VALUE=DATE:20190511
DTSTAMP:20260422T005930
CREATED:20190328T111602Z
LAST-MODIFIED:20190328T111602Z
UID:4364-1557100800-1557532799@www.lisa-badum.de
SUMMARY:Sitzungswoche
DESCRIPTION:
URL:https://www.lisa-badum.de/termin/sitzungswoche-19/
END:VEVENT
BEGIN:VEVENT
DTSTART;VALUE=DATE:20190513
DTEND;VALUE=DATE:20190518
DTSTAMP:20260422T005930
CREATED:20190328T111632Z
LAST-MODIFIED:20190328T111632Z
UID:4366-1557705600-1558137599@www.lisa-badum.de
SUMMARY:Sitzungswoche
DESCRIPTION:
URL:https://www.lisa-badum.de/termin/sitzungswoche-20/
END:VEVENT
BEGIN:VEVENT
DTSTART;VALUE=DATE:20190519
DTEND;VALUE=DATE:20190520
DTSTAMP:20260422T005930
CREATED:20190411T102432Z
LAST-MODIFIED:20190411T102432Z
UID:4630-1558224000-1558310399@www.lisa-badum.de
SUMMARY:Großdemo Europa
DESCRIPTION:
URL:https://www.lisa-badum.de/termin/grossdemo-europa/
END:VEVENT
BEGIN:VEVENT
DTSTART;TZID=Europe/Berlin:20190521T180000
DTEND;TZID=Europe/Berlin:20190521T200000
DTSTAMP:20260422T005930
CREATED:20190520T085420Z
LAST-MODIFIED:20190520T085420Z
UID:5052-1558461600-1558468800@www.lisa-badum.de
SUMMARY:Bayerntour: Lisa unterwegs in Kulmbach
DESCRIPTION:Kommunbräu \nGrünwehr 17 \nKulmbach
URL:https://www.lisa-badum.de/termin/bayerntour-lisa-unterwegs-in-kulmbach/
END:VEVENT
BEGIN:VEVENT
DTSTART;TZID=Europe/Berlin:20190522T180000
DTEND;TZID=Europe/Berlin:20190522T200000
DTSTAMP:20260422T005930
CREATED:20190520T085717Z
LAST-MODIFIED:20190520T085718Z
UID:5054-1558548000-1558555200@www.lisa-badum.de
SUMMARY:Klimaanpassung als kommunale Aufgabe
DESCRIPTION:Podiumsdiskussion in Görlitz
URL:https://www.lisa-badum.de/termin/klimaanpassung-als-kommunale-aufgabe/
END:VEVENT
BEGIN:VEVENT
DTSTART;TZID=Europe/Berlin:20190524T113000
DTEND;TZID=Europe/Berlin:20190524T133000
DTSTAMP:20260422T005930
CREATED:20190520T085935Z
LAST-MODIFIED:20190520T085936Z
UID:5056-1558697400-1558704600@www.lisa-badum.de
SUMMARY:FridaysforFuture Bamberg
DESCRIPTION:Treffpunkt am Bahnhofsvorplatz \nLuitpoldstraße \nBamberg
URL:https://www.lisa-badum.de/termin/fridaysforfuture-bamberg/
END:VEVENT
BEGIN:VEVENT
DTSTART;TZID=Europe/Berlin:20190525T130000
DTEND;TZID=Europe/Berlin:20190525T143000
DTSTAMP:20260422T005930
CREATED:20190411T102543Z
LAST-MODIFIED:20190411T102543Z
UID:4632-1558789200-1558794600@www.lisa-badum.de
SUMMARY:Tag der Brauereien
DESCRIPTION:
URL:https://www.lisa-badum.de/termin/tag-der-brauereien/
LOCATION:Forchheim
END:VEVENT
BEGIN:VEVENT
DTSTART;VALUE=DATE:20190526
DTEND;VALUE=DATE:20190527
DTSTAMP:20260422T005930
CREATED:20190520T090011Z
LAST-MODIFIED:20190520T090011Z
UID:5058-1558828800-1558915199@www.lisa-badum.de
SUMMARY:Europawahl
DESCRIPTION:Wählen gehen! \n#grünwählen
URL:https://www.lisa-badum.de/termin/europawahl/
END:VEVENT
BEGIN:VEVENT
DTSTART;TZID=Europe/Berlin:20190529T110000
DTEND;TZID=Europe/Berlin:20190529T123000
DTSTAMP:20260422T005930
CREATED:20190520T090125Z
LAST-MODIFIED:20190520T090125Z
UID:5060-1559127600-1559133000@www.lisa-badum.de
SUMMARY:Zu Besuch bei 100% Bamberg
DESCRIPTION:Breitengüßbach
URL:https://www.lisa-badum.de/termin/zu-besuch-bei-100-bamberg/
END:VEVENT
BEGIN:VEVENT
DTSTART;TZID=Europe/Berlin:20190531T200000
DTEND;TZID=Europe/Berlin:20190531T220000
DTSTAMP:20260422T005930
CREATED:20190520T090602Z
LAST-MODIFIED:20190520T090602Z
UID:5062-1559332800-1559340000@www.lisa-badum.de
SUMMARY:Workshop Klimakommunikation
DESCRIPTION:Klimawende kommunizieren – aber wie? \nMit GJ Bamberg und den BAGLS Bamberg \n  \nIm Pfadfinderhaus in Baunach
URL:https://www.lisa-badum.de/termin/workshop-klimakommunikation/
END:VEVENT
END:VCALENDAR