BEGIN:VCALENDAR
VERSION:2.0
PRODID:-//Lisa Badum - ECPv6.3.1//NONSGML v1.0//EN
CALSCALE:GREGORIAN
METHOD:PUBLISH
X-WR-CALNAME:Lisa Badum
X-ORIGINAL-URL:https://www.lisa-badum.de
X-WR-CALDESC:Veranstaltungen für Lisa Badum
REFRESH-INTERVAL;VALUE=DURATION:PT1H
X-Robots-Tag:noindex
X-PUBLISHED-TTL:PT1H
BEGIN:VTIMEZONE
TZID:Europe/Berlin
BEGIN:DAYLIGHT
TZOFFSETFROM:+0100
TZOFFSETTO:+0200
TZNAME:CEST
DTSTART:20190331T010000
END:DAYLIGHT
BEGIN:STANDARD
TZOFFSETFROM:+0200
TZOFFSETTO:+0100
TZNAME:CET
DTSTART:20191027T010000
END:STANDARD
END:VTIMEZONE
BEGIN:VEVENT
DTSTART;TZID=Europe/Berlin:20190306T100000
DTEND;TZID=Europe/Berlin:20190306T130000
DTSTAMP:20260422T043739
CREATED:20190212T101346Z
LAST-MODIFIED:20190212T101346Z
UID:4040-1551866400-1551877200@www.lisa-badum.de
SUMMARY:Politischer Aschermittwoch
DESCRIPTION:
URL:https://www.lisa-badum.de/termin/politischer-aschermittwoch/
END:VEVENT
BEGIN:VEVENT
DTSTART;TZID=Europe/Berlin:20190307T183000
DTEND;TZID=Europe/Berlin:20190307T213000
DTSTAMP:20260422T043739
CREATED:20190212T101539Z
LAST-MODIFIED:20190212T101539Z
UID:4042-1551983400-1551994200@www.lisa-badum.de
SUMMARY:Bayerntour: Lisa unterwegs in Hassberge
DESCRIPTION:
URL:https://www.lisa-badum.de/termin/bayerntour-lisa-unterwegs-in-hassberge/
END:VEVENT
BEGIN:VEVENT
DTSTART;VALUE=DATE:20190308
DTEND;VALUE=DATE:20190309
DTSTAMP:20260422T043739
CREATED:20190212T101616Z
LAST-MODIFIED:20190228T092820Z
UID:4044-1552003200-1552089599@www.lisa-badum.de
SUMMARY:Internationaler Frauentag
DESCRIPTION:
URL:https://www.lisa-badum.de/termin/internationaler-frauentag/
END:VEVENT
BEGIN:VEVENT
DTSTART;TZID=Europe/Berlin:20190308T150000
DTEND;TZID=Europe/Berlin:20190308T210000
DTSTAMP:20260422T043739
CREATED:20190212T101723Z
LAST-MODIFIED:20190212T101724Z
UID:4046-1552057200-1552078800@www.lisa-badum.de
SUMMARY:Bayerntour: Lisa unterwegs in Neuburg-Schrobenhausen
DESCRIPTION:
URL:https://www.lisa-badum.de/termin/bayerntour-lisa-unterwegs-in-neuburg-schrobenhausen/
END:VEVENT
BEGIN:VEVENT
DTSTART;TZID=Europe/Berlin:20190309T110000
DTEND;TZID=Europe/Berlin:20190309T120000
DTSTAMP:20260422T043739
CREATED:20190212T101945Z
LAST-MODIFIED:20190212T101945Z
UID:4048-1552129200-1552132800@www.lisa-badum.de
SUMMARY:BürgerInnensprechstunde in Coburg
DESCRIPTION:
URL:https://www.lisa-badum.de/termin/buergerinnensprechstunde-in-coburg/
LOCATION:Grünes Büro Coburg\, Steintor 1\, Coburg\, 96450\, Deutschland
END:VEVENT
BEGIN:VEVENT
DTSTART;VALUE=DATE:20190311
DTEND;VALUE=DATE:20190316
DTSTAMP:20260422T043739
CREATED:20190212T102018Z
LAST-MODIFIED:20190212T102018Z
UID:4052-1552262400-1552694399@www.lisa-badum.de
SUMMARY:Sitzungswoche
DESCRIPTION:
URL:https://www.lisa-badum.de/termin/sitzungswoche-15/
END:VEVENT
BEGIN:VEVENT
DTSTART;VALUE=DATE:20190315
DTEND;VALUE=DATE:20190316
DTSTAMP:20260422T043739
CREATED:20190228T092638Z
LAST-MODIFIED:20190228T092638Z
UID:4150-1552608000-1552694399@www.lisa-badum.de
SUMMARY:#FridaysforFuture Klimademo
DESCRIPTION:
URL:https://www.lisa-badum.de/termin/fridaysforfuture-klimademo/
END:VEVENT
BEGIN:VEVENT
DTSTART;TZID=Europe/Berlin:20190316T100000
DTEND;TZID=Europe/Berlin:20190316T130000
DTSTAMP:20260422T043739
CREATED:20190212T102205Z
LAST-MODIFIED:20190212T102205Z
UID:4056-1552730400-1552741200@www.lisa-badum.de
SUMMARY:Energie- und Klimaallianz Forchheim
DESCRIPTION:
URL:https://www.lisa-badum.de/termin/energie-und-klimaallianz-forchheim/
LOCATION:Burg Feuerstein\, Ebermannstadt
END:VEVENT
BEGIN:VEVENT
DTSTART;VALUE=DATE:20190318
DTEND;VALUE=DATE:20190323
DTSTAMP:20260422T043739
CREATED:20190212T102054Z
LAST-MODIFIED:20190212T102054Z
UID:4054-1552867200-1553299199@www.lisa-badum.de
SUMMARY:Sitzungswoche
DESCRIPTION:
URL:https://www.lisa-badum.de/termin/sitzungswoche-16/
END:VEVENT
BEGIN:VEVENT
DTSTART;VALUE=DATE:20190321
DTEND;VALUE=DATE:20190322
DTSTAMP:20260422T043739
CREATED:20190321T103506Z
LAST-MODIFIED:20190321T103506Z
UID:4283-1553126400-1553212799@www.lisa-badum.de
SUMMARY:Internationaler Tag des Waldes
DESCRIPTION:
URL:https://www.lisa-badum.de/termin/internationaler-tag-des-waldes/
END:VEVENT
BEGIN:VEVENT
DTSTART;TZID=Europe/Berlin:20190322T180000
DTEND;TZID=Europe/Berlin:20190322T203000
DTSTAMP:20260422T043739
CREATED:20190321T103409Z
LAST-MODIFIED:20190321T103409Z
UID:4279-1553277600-1553286600@www.lisa-badum.de
SUMMARY:Verleihung der Bayerischen Naturschutzmedaille 2019
DESCRIPTION:Die Naturschutzmedaille wird in diesem Jahr an Peter Wohlleben verliehen.
URL:https://www.lisa-badum.de/termin/verleihung-der-bayerischen-naturschutzmedaille-2019/
LOCATION:Haas Säle Bamberg\, Obere Sandstraße 7\, Bamberg
END:VEVENT
BEGIN:VEVENT
DTSTART;TZID=Europe/Berlin:20190323T100000
DTEND;TZID=Europe/Berlin:20190323T130000
DTSTAMP:20260422T043739
CREATED:20190212T102418Z
LAST-MODIFIED:20190212T102418Z
UID:4060-1553335200-1553346000@www.lisa-badum.de
SUMMARY:Büroeröffnung Forchheim
DESCRIPTION:
URL:https://www.lisa-badum.de/termin/bueroeroeffnung-forchheim/
LOCATION:Wahlkreisbüro Forchheim\, Paradeplatz 19\, Forchheim\, DE\, 91301
END:VEVENT
BEGIN:VEVENT
DTSTART;TZID=Europe/Berlin:20190325T160000
DTEND;TZID=Europe/Berlin:20190325T220000
DTSTAMP:20260422T043739
CREATED:20190212T102513Z
LAST-MODIFIED:20190212T102513Z
UID:4062-1553529600-1553551200@www.lisa-badum.de
SUMMARY:Bayerntour: Lisa unterwegs in Rhön-Grabfeld
DESCRIPTION:
URL:https://www.lisa-badum.de/termin/bayerntour-lisa-unterwegs-in-rhoen-grabfeld/
END:VEVENT
BEGIN:VEVENT
DTSTART;TZID=Europe/Berlin:20190327T090000
DTEND;TZID=Europe/Berlin:20190327T170000
DTSTAMP:20260422T043739
CREATED:20190212T102724Z
LAST-MODIFIED:20190212T102724Z
UID:4068-1553677200-1553706000@www.lisa-badum.de
SUMMARY:Fachgespräch: Klimabedingte Flucht
DESCRIPTION:
URL:https://www.lisa-badum.de/termin/fachgespraech-klimabedingte-flucht/
END:VEVENT
BEGIN:VEVENT
DTSTART;VALUE=DATE:20190328
DTEND;VALUE=DATE:20190329
DTSTAMP:20260422T043739
CREATED:20190212T102810Z
LAST-MODIFIED:20190212T102811Z
UID:4070-1553731200-1553817599@www.lisa-badum.de
SUMMARY:Girl`s Day / Boy`s Day
DESCRIPTION:
URL:https://www.lisa-badum.de/termin/girls-day-boys-day/
END:VEVENT
BEGIN:VEVENT
DTSTART;TZID=Europe/Berlin:20190328T193000
DTEND;TZID=Europe/Berlin:20190328T213000
DTSTAMP:20260422T043739
CREATED:20190321T103054Z
LAST-MODIFIED:20190321T103054Z
UID:4275-1553801400-1553808600@www.lisa-badum.de
SUMMARY:Klimaschutz in Bamberg
DESCRIPTION:Bereits drei Mal gingen viele Jugendliche unter dem Motto\n#FridaysForFuture in Bamberg auf die Straßen. Die Bamberger Grünen\nunterstützen die Bewegung und veranstalten ein öffentliches Plenum zum Thema „Klimaschutz in Bamberg“. Zu Gast sind etwa Bundestagsabgeordnete und klimapolitische Sprecherin Lisa Badum. Außerdem werden Christian Hader (Radentscheid)\, Karin Einwag (Rettet den Hauptsmoorwald) sowie Andreas Eichenseher und Jonas Glüsenkamp (Bambecher) sprechen. Die Veranstaltung am 28. März beginnt um 19:30 Uhr und findet in den Räumlichkeiten der Alevitischen Gemeinde\, Lichtenhaidestraße 15\, statt.
URL:https://www.lisa-badum.de/termin/klimaschutz-in-bamberg/
LOCATION:Alevitische Gemeinde\, Lichtenhaidestraße 15\, Bamberg
END:VEVENT
BEGIN:VEVENT
DTSTART;TZID=Europe/Berlin:20190329T103000
DTEND;TZID=Europe/Berlin:20190329T120000
DTSTAMP:20260422T043739
CREATED:20190328T104910Z
LAST-MODIFIED:20190328T104911Z
UID:4329-1553855400-1553860800@www.lisa-badum.de
SUMMARY:Schülerstreik Fridays for Future in Forchheim
DESCRIPTION:
URL:https://www.lisa-badum.de/termin/schuelerstreik-fridays-for-future-in-forchheim/
END:VEVENT
BEGIN:VEVENT
DTSTART;TZID=Europe/Berlin:20190330T110000
DTEND;TZID=Europe/Berlin:20190330T170000
DTSTAMP:20260422T043739
CREATED:20190212T102630Z
LAST-MODIFIED:20190212T102630Z
UID:4064-1553943600-1553965200@www.lisa-badum.de
SUMMARY:Kreisvorständetreffen Grüne Bayern
DESCRIPTION:
URL:https://www.lisa-badum.de/termin/kreisvorstaendetreffen-gruene-bayern/
LOCATION:Augsburg
END:VEVENT
BEGIN:VEVENT
DTSTART;TZID=Europe/Berlin:20190331T090000
DTEND;TZID=Europe/Berlin:20190331T160000
DTSTAMP:20260422T043739
CREATED:20190328T105412Z
LAST-MODIFIED:20190328T105442Z
UID:4332-1554022800-1554048000@www.lisa-badum.de
SUMMARY:"Klima\, Krise & Kapitalismus"
DESCRIPTION:Workshop bei der GJ Bayern \n30. März 12 Uhr bis 31. März 16 Uhr \n  \n\n\n\n\n\n\n\n\n\n\n\n\n\n\n\nJugendherberge Bad Kissingen „Der Heiligenhof“ \nAlte Euerdorfer Straße 1\, 97688 Bad Kissingen\n\n\n\n\n\n\n\n\n\n  \nhttps://www.gj-bayern.de/events/schwerpunktseminar-klima-krise-kapitalismus/
URL:https://www.lisa-badum.de/termin/klima-krise-kapitalismus/
LOCATION:Bad Kissingen
END:VEVENT
END:VCALENDAR