BEGIN:VCALENDAR
VERSION:2.0
PRODID:-//Lisa Badum - ECPv6.3.1//NONSGML v1.0//EN
CALSCALE:GREGORIAN
METHOD:PUBLISH
X-WR-CALNAME:Lisa Badum
X-ORIGINAL-URL:https://www.lisa-badum.de
X-WR-CALDESC:Veranstaltungen für Lisa Badum
REFRESH-INTERVAL;VALUE=DURATION:PT1H
X-Robots-Tag:noindex
X-PUBLISHED-TTL:PT1H
BEGIN:VTIMEZONE
TZID:Europe/Berlin
BEGIN:DAYLIGHT
TZOFFSETFROM:+0100
TZOFFSETTO:+0200
TZNAME:CEST
DTSTART:20190331T010000
END:DAYLIGHT
BEGIN:STANDARD
TZOFFSETFROM:+0200
TZOFFSETTO:+0100
TZNAME:CET
DTSTART:20191027T010000
END:STANDARD
END:VTIMEZONE
BEGIN:VEVENT
DTSTART;VALUE=DATE:20190128
DTEND;VALUE=DATE:20190202
DTSTAMP:20260422T061319
CREATED:20190109T091738Z
LAST-MODIFIED:20190109T091738Z
UID:3638-1548633600-1549065599@www.lisa-badum.de
SUMMARY:Sitzungswoche
DESCRIPTION:
URL:https://www.lisa-badum.de/termin/sitzungswoche-12/
END:VEVENT
BEGIN:VEVENT
DTSTART;VALUE=DATE:20190131
DTEND;VALUE=DATE:20190214
DTSTAMP:20260422T061319
CREATED:20190109T092519Z
LAST-MODIFIED:20190109T092519Z
UID:3652-1548892800-1550102399@www.lisa-badum.de
SUMMARY:Eintragungsfrist Volksbegehren Artenvielfalt
DESCRIPTION:Volksbegehren Artenvielfalt in Bayern
URL:https://www.lisa-badum.de/termin/eintragungsfrist-volksbegehren-artenvielfalt/
END:VEVENT
BEGIN:VEVENT
DTSTART;VALUE=DATE:20190202
DTEND;VALUE=DATE:20190204
DTSTAMP:20260422T061319
CREATED:20190109T091835Z
LAST-MODIFIED:20190109T091835Z
UID:3640-1549065600-1549238399@www.lisa-badum.de
SUMMARY:Landesdelegiertenkonferenz in Bad Windsheim
DESCRIPTION:
URL:https://www.lisa-badum.de/termin/landesdelegiertenkonferenz-in-bad-windsheim/
END:VEVENT
BEGIN:VEVENT
DTSTART;VALUE=DATE:20190211
DTEND;VALUE=DATE:20190216
DTSTAMP:20260422T061319
CREATED:20190211T122449Z
LAST-MODIFIED:20190211T122449Z
UID:4014-1549843200-1550275199@www.lisa-badum.de
SUMMARY:Sitzungswoche
DESCRIPTION:
URL:https://www.lisa-badum.de/termin/sitzungswoche-14/
END:VEVENT
BEGIN:VEVENT
DTSTART;TZID=Europe/Berlin:20190216T110000
DTEND;TZID=Europe/Berlin:20190216T130000
DTSTAMP:20260422T061319
CREATED:20190109T092355Z
LAST-MODIFIED:20190109T092355Z
UID:3648-1550314800-1550322000@www.lisa-badum.de
SUMMARY:Büroeröffnung Ursula Sowa MdL
DESCRIPTION:
URL:https://www.lisa-badum.de/termin/bueroeroeffnung-ursula-sowa-mdl/
LOCATION:MdL Büro Ursula Sowa\, Markusplatz\, Bamberg\, Deutschland
END:VEVENT
BEGIN:VEVENT
DTSTART;TZID=Europe/Berlin:20190216T130000
DTEND;TZID=Europe/Berlin:20190216T160000
DTSTAMP:20260422T061319
CREATED:20190211T122552Z
LAST-MODIFIED:20190211T122552Z
UID:4016-1550322000-1550332800@www.lisa-badum.de
SUMMARY:"Nicht mit uns!" Demo in Bamberg
DESCRIPTION:
URL:https://www.lisa-badum.de/termin/nicht-mit-uns-demo-in-bamberg/
LOCATION:Bamberg
END:VEVENT
BEGIN:VEVENT
DTSTART;VALUE=DATE:20190217
DTEND;VALUE=DATE:20190218
DTSTAMP:20260422T061319
CREATED:20190211T122658Z
LAST-MODIFIED:20190211T122659Z
UID:4018-1550361600-1550447999@www.lisa-badum.de
SUMMARY:LAG Frauen
DESCRIPTION:
URL:https://www.lisa-badum.de/termin/lag-frauen/
LOCATION:Rosenheim
END:VEVENT
BEGIN:VEVENT
DTSTART;VALUE=DATE:20190218
DTEND;VALUE=DATE:20190223
DTSTAMP:20260422T061319
CREATED:20190109T092201Z
LAST-MODIFIED:20190109T092202Z
UID:3646-1550448000-1550879999@www.lisa-badum.de
SUMMARY:Sitzungswoche
DESCRIPTION:
URL:https://www.lisa-badum.de/termin/sitzungswoche-13/
END:VEVENT
BEGIN:VEVENT
DTSTART;TZID=Europe/Berlin:20190223T100000
DTEND;TZID=Europe/Berlin:20190223T153000
DTSTAMP:20260422T061319
CREATED:20190128T122031Z
LAST-MODIFIED:20190128T122031Z
UID:3939-1550916000-1550935800@www.lisa-badum.de
SUMMARY:Bezirksdelegiertenkonferenz in Hof
DESCRIPTION:
URL:https://www.lisa-badum.de/termin/bezirksdelegiertenkonferenz-in-hof/
END:VEVENT
BEGIN:VEVENT
DTSTART;TZID=Europe/Berlin:20190223T133000
DTEND;TZID=Europe/Berlin:20190223T143000
DTSTAMP:20260422T061319
CREATED:20190211T122809Z
LAST-MODIFIED:20190211T122810Z
UID:4022-1550928600-1550932200@www.lisa-badum.de
SUMMARY:Neujahrsempfang mit Robert Habeck
DESCRIPTION:
URL:https://www.lisa-badum.de/termin/neujahrsempfang-mit-robert-habeck/
LOCATION:Hof
END:VEVENT
BEGIN:VEVENT
DTSTART;TZID=Europe/Berlin:20190224T180000
DTEND;TZID=Europe/Berlin:20190224T193000
DTSTAMP:20260422T061319
CREATED:20190211T122954Z
LAST-MODIFIED:20190211T122955Z
UID:4026-1551031200-1551036600@www.lisa-badum.de
SUMMARY:Gründung GJ Forchheim
DESCRIPTION:
URL:https://www.lisa-badum.de/termin/gruendung-gj-forchheim/
LOCATION:Wahlkreisbüro Forchheim\, Paradeplatz 19\, Forchheim\, DE\, 91301
ORGANIZER;CN="":MAILTO:lena-knauer@gmx.de
END:VEVENT
BEGIN:VEVENT
DTSTART;TZID=Europe/Berlin:20190225T170000
DTEND;TZID=Europe/Berlin:20190225T190000
DTSTAMP:20260422T061319
CREATED:20190221T093005Z
LAST-MODIFIED:20190221T093006Z
UID:4114-1551114000-1551121200@www.lisa-badum.de
SUMMARY:Podiumsdiskussion Fridays for Future
DESCRIPTION:http://www.nordbayern.de/region/erlangen/fridays-for-future-kritik-an-den-demos-in-erlangen-1.8617264
URL:https://www.lisa-badum.de/termin/podiumsdiskussion-fridays-for-future/
LOCATION:E-Werk Erlangen
END:VEVENT
BEGIN:VEVENT
DTSTART;TZID=Europe/Berlin:20190227T183000
DTEND;TZID=Europe/Berlin:20190227T203000
DTSTAMP:20260422T061319
CREATED:20190211T123218Z
LAST-MODIFIED:20190221T093042Z
UID:4032-1551292200-1551299400@www.lisa-badum.de
SUMMARY:Plastikwahnsinn - Plastikvermeidung
DESCRIPTION:Ausstellung und Podiumsdiskussion in der Pasinger Fabrik \n  \nhttps://www.wochenanzeiger-muenchen.de/mc3bcnchen/podiumgespraech-zum-plastikwahnsinn\,113829.html \n 
URL:https://www.lisa-badum.de/termin/plastikwahnsinn-plastikvermeidung/
LOCATION:Pasinger Fabrik\, August-Exter-Str. 1\, München\, 81245\, Deutschland
END:VEVENT
END:VCALENDAR