BEGIN:VCALENDAR
VERSION:2.0
PRODID:-//Lisa Badum - ECPv6.3.1//NONSGML v1.0//EN
CALSCALE:GREGORIAN
METHOD:PUBLISH
X-ORIGINAL-URL:https://www.lisa-badum.de
X-WR-CALDESC:Veranstaltungen für Lisa Badum
REFRESH-INTERVAL;VALUE=DURATION:PT1H
X-Robots-Tag:noindex
X-PUBLISHED-TTL:PT1H
BEGIN:VTIMEZONE
TZID:Europe/Berlin
BEGIN:DAYLIGHT
TZOFFSETFROM:+0100
TZOFFSETTO:+0200
TZNAME:CEST
DTSTART:20180325T010000
END:DAYLIGHT
BEGIN:STANDARD
TZOFFSETFROM:+0200
TZOFFSETTO:+0100
TZNAME:CET
DTSTART:20181028T010000
END:STANDARD
BEGIN:DAYLIGHT
TZOFFSETFROM:+0100
TZOFFSETTO:+0200
TZNAME:CEST
DTSTART:20190331T010000
END:DAYLIGHT
BEGIN:STANDARD
TZOFFSETFROM:+0200
TZOFFSETTO:+0100
TZNAME:CET
DTSTART:20191027T010000
END:STANDARD
END:VTIMEZONE
BEGIN:VEVENT
DTSTART;VALUE=DATE:20181225
DTEND;VALUE=DATE:20190105
DTSTAMP:20260422T080407
CREATED:20181108T130625Z
LAST-MODIFIED:20181207T095038Z
UID:3236-1545696000-1546646399@www.lisa-badum.de
SUMMARY:Büro im Urlaub
DESCRIPTION:
URL:https://www.lisa-badum.de/termin/buero-im-urlaub/
END:VEVENT
BEGIN:VEVENT
DTSTART;TZID=Europe/Berlin:20190112T190000
DTEND;TZID=Europe/Berlin:20190112T200000
DTSTAMP:20260422T080407
CREATED:20190109T091502Z
LAST-MODIFIED:20190109T091502Z
UID:3632-1547319600-1547323200@www.lisa-badum.de
SUMMARY:Neujahrsempfang in Oberhaid
DESCRIPTION:
URL:https://www.lisa-badum.de/termin/neujahrsempfang-in-oberhaid/
END:VEVENT
BEGIN:VEVENT
DTSTART;VALUE=DATE:20190114
DTEND;VALUE=DATE:20190119
DTSTAMP:20260422T080407
CREATED:20190109T091529Z
LAST-MODIFIED:20190109T091530Z
UID:3634-1547424000-1547855999@www.lisa-badum.de
SUMMARY:Sitzungswoche
DESCRIPTION:
URL:https://www.lisa-badum.de/termin/sitzungswoche-11/
END:VEVENT
BEGIN:VEVENT
DTSTART;TZID=Europe/Berlin:20190119T110000
DTEND;TZID=Europe/Berlin:20190119T130000
DTSTAMP:20260422T080407
CREATED:20190109T092034Z
LAST-MODIFIED:20190109T092034Z
UID:3642-1547895600-1547902800@www.lisa-badum.de
SUMMARY:Neumitgliederfrühstück GAL
DESCRIPTION:
URL:https://www.lisa-badum.de/termin/neumitgliederfruehstueck-gal/
LOCATION:Schutzgemeinschaft\, Schillerplatz 9\, Bamberg\, Deutschland
END:VEVENT
BEGIN:VEVENT
DTSTART;TZID=Europe/Berlin:20190124T100000
DTEND;TZID=Europe/Berlin:20190124T120000
DTSTAMP:20260422T080407
CREATED:20190109T091712Z
LAST-MODIFIED:20190109T091712Z
UID:3636-1548324000-1548331200@www.lisa-badum.de
SUMMARY:BürgerInnensprechstunde Bamberg
DESCRIPTION:Anmeldung unter lisa.badum.ma07@bundestag.de
URL:https://www.lisa-badum.de/termin/buergerinnensprechstunde-bamberg/
LOCATION:Bamberg\, Wahlkreisbüro\, Luitpoldstraße 17\, Bamberg\, 96052\, Deutschland
END:VEVENT
BEGIN:VEVENT
DTSTART;VALUE=DATE:20190128
DTEND;VALUE=DATE:20190202
DTSTAMP:20260422T080407
CREATED:20190109T091738Z
LAST-MODIFIED:20190109T091738Z
UID:3638-1548633600-1549065599@www.lisa-badum.de
SUMMARY:Sitzungswoche
DESCRIPTION:
URL:https://www.lisa-badum.de/termin/sitzungswoche-12/
END:VEVENT
BEGIN:VEVENT
DTSTART;VALUE=DATE:20190131
DTEND;VALUE=DATE:20190214
DTSTAMP:20260422T080407
CREATED:20190109T092519Z
LAST-MODIFIED:20190109T092519Z
UID:3652-1548892800-1550102399@www.lisa-badum.de
SUMMARY:Eintragungsfrist Volksbegehren Artenvielfalt
DESCRIPTION:Volksbegehren Artenvielfalt in Bayern
URL:https://www.lisa-badum.de/termin/eintragungsfrist-volksbegehren-artenvielfalt/
END:VEVENT
END:VCALENDAR