BEGIN:VCALENDAR
VERSION:2.0
PRODID:-//Lisa Badum - ECPv6.3.1//NONSGML v1.0//EN
CALSCALE:GREGORIAN
METHOD:PUBLISH
X-WR-CALNAME:Lisa Badum
X-ORIGINAL-URL:https://www.lisa-badum.de
X-WR-CALDESC:Veranstaltungen für Lisa Badum
REFRESH-INTERVAL;VALUE=DURATION:PT1H
X-Robots-Tag:noindex
X-PUBLISHED-TTL:PT1H
BEGIN:VTIMEZONE
TZID:Europe/Berlin
BEGIN:DAYLIGHT
TZOFFSETFROM:+0100
TZOFFSETTO:+0200
TZNAME:CEST
DTSTART:20180325T010000
END:DAYLIGHT
BEGIN:STANDARD
TZOFFSETFROM:+0200
TZOFFSETTO:+0100
TZNAME:CET
DTSTART:20181028T010000
END:STANDARD
END:VTIMEZONE
BEGIN:VEVENT
DTSTART;TZID=Europe/Berlin:20181001T170000
DTEND;TZID=Europe/Berlin:20181001T210000
DTSTAMP:20260422T131721
CREATED:20180829T061745Z
LAST-MODIFIED:20180829T061745Z
UID:2628-1538413200-1538427600@www.lisa-badum.de
SUMMARY:Bayerntour: OV Schwabing
DESCRIPTION:
URL:https://www.lisa-badum.de/termin/bayerntour-ov-schwabing/
LOCATION:Schwabing
END:VEVENT
BEGIN:VEVENT
DTSTART;TZID=Europe/Berlin:20181002T193000
DTEND;TZID=Europe/Berlin:20181002T213000
DTSTAMP:20260422T131721
CREATED:20180918T075415Z
LAST-MODIFIED:20180918T075415Z
UID:2821-1538508600-1538515800@www.lisa-badum.de
SUMMARY:Noch ein Bier mit Özdemir
DESCRIPTION:Cem in Bamberg
URL:https://www.lisa-badum.de/termin/noch-ein-bier-mit-oezdemir/
LOCATION:Alte Seilerei Bamberg\, Bamberg\, Deutschland
END:VEVENT
BEGIN:VEVENT
DTSTART;TZID=Europe/Berlin:20181003T110000
DTEND;TZID=Europe/Berlin:20181003T130000
DTSTAMP:20260422T131721
CREATED:20180918T075704Z
LAST-MODIFIED:20180918T075705Z
UID:2825-1538564400-1538571600@www.lisa-badum.de
SUMMARY:Mit Toni Hofreiter im Bamberger Land
DESCRIPTION:Verkehrs- und agrarpolitischer Frühschoppen mit Toni Hofreiter \n  \nDie Agrarwirtschaft befindet sich an einem Wendepunkt. Durch den Klimawandel müssen Landwirte mit mehr Dürren und Starkregen umgehen\, das wärmere Wetter gibt neuen Schädlingen Lebensraum und die Verbraucherinnen und Verbraucher fordern mehr und mehr giftfreie Lebensmittel und artgerechte Tierhaltung. Toni Hofreiter wird beim politischen Frühschoppen in Baunach zu diesen Themen sprechen.
URL:https://www.lisa-badum.de/termin/mit-toni-hofreiter-im-bamberger-land/
LOCATION:Gasthaus Obleyhof\, Baunach\, Baunach\, Deutschland
END:VEVENT
BEGIN:VEVENT
DTSTART;TZID=Europe/Berlin:20181004T160000
DTEND;TZID=Europe/Berlin:20181004T210000
DTSTAMP:20260422T131721
CREATED:20180829T061935Z
LAST-MODIFIED:20180829T061935Z
UID:2632-1538668800-1538686800@www.lisa-badum.de
SUMMARY:Bayerntour: KV Ebersberg
DESCRIPTION:„Klimawende bei der Energiewende anpacken“
URL:https://www.lisa-badum.de/termin/bayerntour-kv-ebersberg/
END:VEVENT
BEGIN:VEVENT
DTSTART;TZID=Europe/Berlin:20181005T160000
DTEND;TZID=Europe/Berlin:20181005T170000
DTSTAMP:20260422T131721
CREATED:20180918T075817Z
LAST-MODIFIED:20180918T075817Z
UID:2829-1538755200-1538758800@www.lisa-badum.de
SUMMARY:Haustürwahlkampf in Bubenreuth
DESCRIPTION:
URL:https://www.lisa-badum.de/termin/haustuerwahlkampf-in-bubenreuth/
END:VEVENT
BEGIN:VEVENT
DTSTART;TZID=Europe/Berlin:20181005T173000
DTEND;TZID=Europe/Berlin:20181005T190000
DTSTAMP:20260422T131721
CREATED:20180918T075914Z
LAST-MODIFIED:20180918T075914Z
UID:2831-1538760600-1538766000@www.lisa-badum.de
SUMMARY:Haustürwahlkampf in Erlangen
DESCRIPTION:
URL:https://www.lisa-badum.de/termin/haustuerwahlkampf-in-erlangen/
END:VEVENT
BEGIN:VEVENT
DTSTART;TZID=Europe/Berlin:20181006T100000
DTEND;TZID=Europe/Berlin:20181006T120000
DTSTAMP:20260422T131721
CREATED:20180918T080131Z
LAST-MODIFIED:20180918T080131Z
UID:2833-1538820000-1538827200@www.lisa-badum.de
SUMMARY:Robert kommt!
DESCRIPTION:Robert kommt!\nSei dabei beim grünen Wahlkampfhöhepunkt in Forchheim! \nWas bedeutet Heimat eigentlich? Genau\, Heimat bewahren heißt für uns Natur-\, Umwelt- und Klimaschutz! Wie also muss unsere Zukunft aussehen? \nÜber diese und viele weitere Themen kannst du ganz nah und ganz direkt mit unserem Bundesvorsitzenden Robert Habeck diskutieren! Denn gemeinsam mit unseren Landtagskandidaten Emmerich Huber und Annette Prechtel\, sowie unserer Bundestagsabgeordneten Lisa Badum steht Robert dir Rede und Antwort. \n10 Uhr:\n„Triff Robert“ am Infostand in der Fußgängerzone \n11 Uhr:\n„Frag Robert“ bei der Townhall auf dem Paradeplatz \nDu willst es? Dann komm vorbei!\n#duwillstesdannwähles #mitunsdiezukunft
URL:https://www.lisa-badum.de/termin/robert-kommt/
LOCATION:Paradeplatz Forchheim\, Paradeplatz\, Forchheim\, 91301
END:VEVENT
BEGIN:VEVENT
DTSTART;VALUE=DATE:20181007
DTEND;VALUE=DATE:20181008
DTSTAMP:20260422T131721
CREATED:20180918T080214Z
LAST-MODIFIED:20180918T080214Z
UID:2835-1538870400-1538956799@www.lisa-badum.de
SUMMARY:Kleiner Parteitag in München
DESCRIPTION:
URL:https://www.lisa-badum.de/termin/kleiner-parteitag-in-muenchen/
END:VEVENT
BEGIN:VEVENT
DTSTART;VALUE=DATE:20181008
DTEND;VALUE=DATE:20181013
DTSTAMP:20260422T131721
CREATED:20180813T083857Z
LAST-MODIFIED:20180813T083857Z
UID:2546-1538956800-1539388799@www.lisa-badum.de
SUMMARY:Sitzungswoche
DESCRIPTION:
URL:https://www.lisa-badum.de/termin/sitzungswoche-5/
LOCATION:Deutscher Bundestag\, Berlin\, Deutschland
END:VEVENT
BEGIN:VEVENT
DTSTART;TZID=Europe/Berlin:20181013T110000
DTEND;TZID=Europe/Berlin:20181013T123000
DTSTAMP:20260422T131721
CREATED:20181009T092858Z
LAST-MODIFIED:20181009T092858Z
UID:2983-1539428400-1539433800@www.lisa-badum.de
SUMMARY:Plogging in Forchheim
DESCRIPTION:https://www.forchheim-plogging.de/
URL:https://www.lisa-badum.de/termin/plogging-in-forchheim/
LOCATION:Rathausplatz Forchheim
END:VEVENT
BEGIN:VEVENT
DTSTART;TZID=Europe/Berlin:20181013T123000
DTEND;TZID=Europe/Berlin:20181013T140000
DTSTAMP:20260422T131721
CREATED:20181009T093141Z
LAST-MODIFIED:20181009T093949Z
UID:2987-1539433800-1539439200@www.lisa-badum.de
SUMMARY:Frag Annalena und Ludwig
DESCRIPTION:Wahlkampfveranstaltung in Bamberg
URL:https://www.lisa-badum.de/termin/frag-annalena-und-ludwig/
LOCATION:Schillerplatz Bamberg
END:VEVENT
BEGIN:VEVENT
DTSTART;VALUE=DATE:20181014
DTEND;VALUE=DATE:20181015
DTSTAMP:20260422T131721
CREATED:20180829T062050Z
LAST-MODIFIED:20180829T062050Z
UID:2634-1539475200-1539561599@www.lisa-badum.de
SUMMARY:Landtagswahl Bayern
DESCRIPTION:
URL:https://www.lisa-badum.de/termin/landtagswahl-bayern/
END:VEVENT
BEGIN:VEVENT
DTSTART;TZID=Europe/Berlin:20181014T170000
DTEND;TZID=Europe/Berlin:20181014T200000
DTSTAMP:20260422T131721
CREATED:20181009T093915Z
LAST-MODIFIED:20181009T093915Z
UID:2995-1539536400-1539547200@www.lisa-badum.de
SUMMARY:Wahlfeier Bamberg
DESCRIPTION:
URL:https://www.lisa-badum.de/termin/wahlfeier-bamberg/
END:VEVENT
BEGIN:VEVENT
DTSTART;TZID=Europe/Berlin:20181014T173000
DTEND;TZID=Europe/Berlin:20181014T203000
DTSTAMP:20260422T131721
CREATED:20181009T093312Z
LAST-MODIFIED:20181009T093312Z
UID:2991-1539538200-1539549000@www.lisa-badum.de
SUMMARY:Wahlfeier Forchheim
DESCRIPTION:
URL:https://www.lisa-badum.de/termin/wahlfeier-forchheim/
LOCATION:Karnbaum Forchheim\, Hornschuchallee 25\, Forchheim\, 91301\, Deutschland
END:VEVENT
BEGIN:VEVENT
DTSTART;VALUE=DATE:20181015
DTEND;VALUE=DATE:20181020
DTSTAMP:20260422T131722
CREATED:20180813T083948Z
LAST-MODIFIED:20180813T083948Z
UID:2548-1539561600-1539993599@www.lisa-badum.de
SUMMARY:Sitzungswoche
DESCRIPTION:
URL:https://www.lisa-badum.de/termin/sitzungswoche-6/
LOCATION:Deutscher Bundestag\, Berlin\, Deutschland
END:VEVENT
BEGIN:VEVENT
DTSTART;TZID=Europe/Berlin:20181018T080000
DTEND;TZID=Europe/Berlin:20181018T093000
DTSTAMP:20260422T131722
CREATED:20181015T091917Z
LAST-MODIFIED:20181015T092011Z
UID:3057-1539849600-1539855000@www.lisa-badum.de
SUMMARY:Parlamentarisches Frühstück mit der schwedischen Botschaft
DESCRIPTION:Thema: \n„Schwedisch-deutsche Perspektiven der CO2-Bepreisung“
URL:https://www.lisa-badum.de/termin/parlamentarisches-fruehstueck-mit-der-schwedischen-botschaft/
LOCATION:Paul-Löbe-Haus Berlin
END:VEVENT
BEGIN:VEVENT
DTSTART;TZID=Europe/Berlin:20181020T110000
DTEND;TZID=Europe/Berlin:20181020T170000
DTSTAMP:20260422T131722
CREATED:20181009T093652Z
LAST-MODIFIED:20181009T094012Z
UID:2997-1540033200-1540054800@www.lisa-badum.de
SUMMARY:LDK zur Wahlanalyse
DESCRIPTION:
URL:https://www.lisa-badum.de/termin/ldk-zur-wahlanalyse/
LOCATION:marinaforum Regensburg\, Johanna-Dachs-Straße 46\, Regensburg\, 93055
END:VEVENT
BEGIN:VEVENT
DTSTART;TZID=Europe/Berlin:20181021T080000
DTEND;TZID=Europe/Berlin:20181021T140000
DTSTAMP:20260422T131722
CREATED:20181009T093825Z
LAST-MODIFIED:20181009T093826Z
UID:3001-1540108800-1540130400@www.lisa-badum.de
SUMMARY:Beyond the red lines - politischer Aktivismus
DESCRIPTION:https://www.gj-bayern.de/events/beyond-the-red-lines-einfuehrung-in-politischen-aktivismus/
URL:https://www.lisa-badum.de/termin/beyond-the-red-lines-politischer-aktivismus/
LOCATION:Grünes Büro Würzburg
END:VEVENT
BEGIN:VEVENT
DTSTART;VALUE=DATE:20181022
DTEND;VALUE=DATE:20181027
DTSTAMP:20260422T131722
CREATED:20181009T094319Z
LAST-MODIFIED:20181009T094319Z
UID:3007-1540166400-1540598399@www.lisa-badum.de
SUMMARY:Delegationsreise Marokko
DESCRIPTION:
URL:https://www.lisa-badum.de/termin/delegationsreise-marokko/
END:VEVENT
BEGIN:VEVENT
DTSTART;VALUE=DATE:20181025
DTEND;VALUE=DATE:20181030
DTSTAMP:20260422T131722
CREATED:20181009T094156Z
LAST-MODIFIED:20181009T094157Z
UID:3005-1540425600-1540857599@www.lisa-badum.de
SUMMARY:Demo und Camp „Ende Gelände“ im Rheinischen Kohlerevier
DESCRIPTION:
URL:https://www.lisa-badum.de/termin/demo-und-camp-ende-gelaende-im-rheinischen-kohlerevier/
END:VEVENT
BEGIN:VEVENT
DTSTART;VALUE=DATE:20181027
DTEND;VALUE=DATE:20181028
DTSTAMP:20260422T131722
CREATED:20180918T080357Z
LAST-MODIFIED:20180918T080357Z
UID:2837-1540598400-1540684799@www.lisa-badum.de
SUMMARY:Bezirksdelegiertenversammlung Oberfranken
DESCRIPTION:
URL:https://www.lisa-badum.de/termin/bezirksdelegiertenversammlung-oberfranken/
END:VEVENT
BEGIN:VEVENT
DTSTART;TZID=Europe/Berlin:20181030T140000
DTEND;TZID=Europe/Berlin:20181030T170000
DTSTAMP:20260422T131722
CREATED:20180918T080718Z
LAST-MODIFIED:20180918T080718Z
UID:2839-1540908000-1540918800@www.lisa-badum.de
SUMMARY:Treffen des Leitungsdienstes von Forstverwaltung  und BaySF in Oberfranken
DESCRIPTION:Thema: Waldpolitik
URL:https://www.lisa-badum.de/termin/treffen-des-leitungsdienstes-von-forstverwaltung-und-baysf-in-oberfranken/
LOCATION:Eckersdorf\, Waldhütte 1\, Eckersdorf\, 95500\, Deutschland
END:VEVENT
BEGIN:VEVENT
DTSTART;TZID=Europe/Berlin:20181031T140000
DTEND;TZID=Europe/Berlin:20181031T160000
DTSTAMP:20260422T131722
CREATED:20181009T094509Z
LAST-MODIFIED:20181009T094629Z
UID:3009-1540994400-1541001600@www.lisa-badum.de
SUMMARY:Bürger*innen-Sprechstunde Bamberg
DESCRIPTION:
URL:https://www.lisa-badum.de/termin/buergerinnen-sprechstunde-bamberg/
LOCATION:BürgerInnenbüro Bamberg\, Luitpoldstraße 17\, Bamberg\, 96052
END:VEVENT
END:VCALENDAR