BEGIN:VCALENDAR
VERSION:2.0
PRODID:-//Lisa Badum - ECPv6.3.1//NONSGML v1.0//EN
CALSCALE:GREGORIAN
METHOD:PUBLISH
X-WR-CALNAME:Lisa Badum
X-ORIGINAL-URL:https://www.lisa-badum.de
X-WR-CALDESC:Veranstaltungen für Lisa Badum
REFRESH-INTERVAL;VALUE=DURATION:PT1H
X-Robots-Tag:noindex
X-PUBLISHED-TTL:PT1H
BEGIN:VTIMEZONE
TZID:Europe/Berlin
BEGIN:DAYLIGHT
TZOFFSETFROM:+0100
TZOFFSETTO:+0200
TZNAME:CEST
DTSTART:20200329T010000
END:DAYLIGHT
BEGIN:STANDARD
TZOFFSETFROM:+0200
TZOFFSETTO:+0100
TZNAME:CET
DTSTART:20201025T010000
END:STANDARD
END:VTIMEZONE
BEGIN:VEVENT
DTSTART;TZID=Europe/Berlin:20200518T170000
DTEND;TZID=Europe/Berlin:20200518T180000
DTSTAMP:20260421T123513
CREATED:20200518T121453Z
LAST-MODIFIED:20200518T121453Z
UID:7776-1589821200-1589824800@www.lisa-badum.de
SUMMARY:FFF meets Politics mit Lisa Badum
DESCRIPTION:Hier könnt ihr das Webinar mitverfolgen: \nhttps://www.youtube.com/channel/UCZwF7J5rbyJXBZMJrE_8XCA
URL:https://www.lisa-badum.de/termin/fff-meets-politics-mit-lisa-badum/
ATTACH;FMTTYPE=image/jpeg:https://www.lisa-badum.de/wp-content/uploads/2020/05/FFF-meets-politics.jpg
END:VEVENT
END:VCALENDAR