BEGIN:VCALENDAR
VERSION:2.0
PRODID:-//Lisa Badum - ECPv6.3.1//NONSGML v1.0//EN
CALSCALE:GREGORIAN
METHOD:PUBLISH
X-ORIGINAL-URL:https://www.lisa-badum.de
X-WR-CALDESC:Veranstaltungen für Lisa Badum
REFRESH-INTERVAL;VALUE=DURATION:PT1H
X-Robots-Tag:noindex
X-PUBLISHED-TTL:PT1H
BEGIN:VTIMEZONE
TZID:Europe/Berlin
BEGIN:DAYLIGHT
TZOFFSETFROM:+0100
TZOFFSETTO:+0200
TZNAME:CEST
DTSTART:20200329T010000
END:DAYLIGHT
BEGIN:STANDARD
TZOFFSETFROM:+0200
TZOFFSETTO:+0100
TZNAME:CET
DTSTART:20201025T010000
END:STANDARD
END:VTIMEZONE
BEGIN:VEVENT
DTSTART;TZID=Europe/Berlin:20200118T090000
DTEND;TZID=Europe/Berlin:20200118T160000
DTSTAMP:20260421T123727
CREATED:20200108T082601Z
LAST-MODIFIED:20200108T082601Z
UID:6954-1579338000-1579363200@www.lisa-badum.de
SUMMARY:LAG Frauen
DESCRIPTION:Klausur LAG Frauen in Veitshöchheim
URL:https://www.lisa-badum.de/termin/lag-frauen-3/
LOCATION:Veitshöchheim
END:VEVENT
BEGIN:VEVENT
DTSTART;TZID=Europe/Berlin:20200118T180000
DTEND;TZID=Europe/Berlin:20200118T190000
DTSTAMP:20260421T123727
CREATED:20200108T083333Z
LAST-MODIFIED:20200108T083334Z
UID:6958-1579370400-1579374000@www.lisa-badum.de
SUMMARY:Neujahrsempfang Stadt Bamberg
DESCRIPTION:
URL:https://www.lisa-badum.de/termin/neujahrsempfang-stadt-bamberg/
LOCATION:Bamberg
END:VEVENT
END:VCALENDAR