BEGIN:VCALENDAR
VERSION:2.0
PRODID:-//Lisa Badum - ECPv6.3.1//NONSGML v1.0//EN
CALSCALE:GREGORIAN
METHOD:PUBLISH
X-ORIGINAL-URL:https://www.lisa-badum.de
X-WR-CALDESC:Veranstaltungen für Lisa Badum
REFRESH-INTERVAL;VALUE=DURATION:PT1H
X-Robots-Tag:noindex
X-PUBLISHED-TTL:PT1H
BEGIN:VTIMEZONE
TZID:Europe/Berlin
BEGIN:DAYLIGHT
TZOFFSETFROM:+0100
TZOFFSETTO:+0200
TZNAME:CEST
DTSTART:20200329T010000
END:DAYLIGHT
BEGIN:STANDARD
TZOFFSETFROM:+0200
TZOFFSETTO:+0100
TZNAME:CET
DTSTART:20201025T010000
END:STANDARD
END:VTIMEZONE
BEGIN:VEVENT
DTSTART;TZID=Europe/Berlin:20200109T153000
DTEND;TZID=Europe/Berlin:20200109T180000
DTSTAMP:20260421T123823
CREATED:20200108T080051Z
LAST-MODIFIED:20200108T080051Z
UID:6935-1578583800-1578592800@www.lisa-badum.de
SUMMARY:Besuch Kraftwerke Tögging
DESCRIPTION:KV Mühldorf
URL:https://www.lisa-badum.de/termin/besuch-kraftwerke-toegging/
LOCATION:Mühldorf
END:VEVENT
BEGIN:VEVENT
DTSTART;TZID=Europe/Berlin:20200109T190000
DTEND;TZID=Europe/Berlin:20200109T210000
DTSTAMP:20260421T123823
CREATED:20200108T080352Z
LAST-MODIFIED:20200108T080352Z
UID:6940-1578596400-1578603600@www.lisa-badum.de
SUMMARY:Lisa unterwegs beim KV Mühldorf
DESCRIPTION:Bayerntour
URL:https://www.lisa-badum.de/termin/lisa-unterwegs-beim-kv-muehldorf/
LOCATION:Mühldorf
END:VEVENT
END:VCALENDAR