BEGIN:VCALENDAR
VERSION:2.0
PRODID:-//Lisa Badum - ECPv6.3.1//NONSGML v1.0//EN
CALSCALE:GREGORIAN
METHOD:PUBLISH
X-ORIGINAL-URL:https://www.lisa-badum.de
X-WR-CALDESC:Veranstaltungen für Lisa Badum
REFRESH-INTERVAL;VALUE=DURATION:PT1H
X-Robots-Tag:noindex
X-PUBLISHED-TTL:PT1H
BEGIN:VTIMEZONE
TZID:Europe/Berlin
BEGIN:DAYLIGHT
TZOFFSETFROM:+0100
TZOFFSETTO:+0200
TZNAME:CEST
DTSTART:20200329T010000
END:DAYLIGHT
BEGIN:STANDARD
TZOFFSETFROM:+0200
TZOFFSETTO:+0100
TZNAME:CET
DTSTART:20201025T010000
END:STANDARD
END:VTIMEZONE
BEGIN:VEVENT
DTSTART;TZID=Europe/Berlin:20200108T193000
DTEND;TZID=Europe/Berlin:20200108T220000
DTSTAMP:20260421T123524
CREATED:20200108T075707Z
LAST-MODIFIED:20200108T075707Z
UID:6931-1578511800-1578520800@www.lisa-badum.de
SUMMARY:Lisa unterwegs beim OV Pommelsbrunn
DESCRIPTION:Bayerntour
URL:https://www.lisa-badum.de/termin/lisa-unterwegs-beim-ov-pommelsbrunn/
LOCATION:Pommelsbrunn
END:VEVENT
END:VCALENDAR