BEGIN:VCALENDAR
VERSION:2.0
PRODID:-//Lisa Badum - ECPv6.3.1//NONSGML v1.0//EN
CALSCALE:GREGORIAN
METHOD:PUBLISH
X-WR-CALNAME:Lisa Badum
X-ORIGINAL-URL:https://www.lisa-badum.de
X-WR-CALDESC:Veranstaltungen für Lisa Badum
REFRESH-INTERVAL;VALUE=DURATION:PT1H
X-Robots-Tag:noindex
X-PUBLISHED-TTL:PT1H
BEGIN:VTIMEZONE
TZID:Europe/Berlin
BEGIN:DAYLIGHT
TZOFFSETFROM:+0100
TZOFFSETTO:+0200
TZNAME:CEST
DTSTART:20190331T010000
END:DAYLIGHT
BEGIN:STANDARD
TZOFFSETFROM:+0200
TZOFFSETTO:+0100
TZNAME:CET
DTSTART:20191027T010000
END:STANDARD
END:VTIMEZONE
BEGIN:VEVENT
DTSTART;TZID=Europe/Berlin:20191130T110000
DTEND;TZID=Europe/Berlin:20191130T170000
DTSTAMP:20260421T141204
CREATED:20190822T113340Z
LAST-MODIFIED:20190822T113340Z
UID:5684-1575111600-1575133200@www.lisa-badum.de
SUMMARY:Grundsatzprogrammkonvent: Zukunft gestalten
DESCRIPTION:Kongresszentrum Augsburg\, Göggingerstraße 10\, 86159 Augsburg
URL:https://www.lisa-badum.de/termin/grundsatzprogrammkonvent-zukunft-gestalten/
END:VEVENT
END:VCALENDAR