BEGIN:VCALENDAR
VERSION:2.0
PRODID:-//Lisa Badum - ECPv6.3.1//NONSGML v1.0//EN
CALSCALE:GREGORIAN
METHOD:PUBLISH
X-ORIGINAL-URL:https://www.lisa-badum.de
X-WR-CALDESC:Veranstaltungen für Lisa Badum
REFRESH-INTERVAL;VALUE=DURATION:PT1H
X-Robots-Tag:noindex
X-PUBLISHED-TTL:PT1H
BEGIN:VTIMEZONE
TZID:Europe/Berlin
BEGIN:DAYLIGHT
TZOFFSETFROM:+0100
TZOFFSETTO:+0200
TZNAME:CEST
DTSTART:20190331T010000
END:DAYLIGHT
BEGIN:STANDARD
TZOFFSETFROM:+0200
TZOFFSETTO:+0100
TZNAME:CET
DTSTART:20191027T010000
END:STANDARD
END:VTIMEZONE
BEGIN:VEVENT
DTSTART;TZID=Europe/Berlin:20191121T170000
DTEND;TZID=Europe/Berlin:20191121T190000
DTSTAMP:20260421T155451
CREATED:20191105T134447Z
LAST-MODIFIED:20191105T134448Z
UID:6677-1574355600-1574362800@www.lisa-badum.de
SUMMARY:Fachgespräch: Klimavorbehalt
DESCRIPTION:Fachgespräch Klimavorbehalt \n\nam Donnerstag\, dem 21. November 2019\, um 17:00 Uhr \n\nim Grün im Kiez-Büro\, Braunschweiger Straße 71\, Berlin Neukölln\n\nSchon seit langem ist klar: Klima ist eine Querschnittsaufgabe\, zu der alle einen Beitrag leisten müssen. Um die schlimmsten Auswirkungen der Klimakrise abzuwenden\, bleibt nicht mehr viel Zeit. Kann ein Klimavorbehalt helfen\, Klimaschutz verbindlich im Regierungshandeln zu verankern? Welche Möglichkeiten der Ausgestaltung gibt es\, um weder einen Papiertiger noch ein Bürokratiemonster daraus zu machen? Welche Entscheidungen müssen hinsichtlich ihrer Klimawirkung geprüft werden? Welche Rolle spielen Kompensationen? Welche Ideen gibt es dazu bereits in Bremen und Berlin? Diese und weitere Fragen möchten wir im Rahmen des Fachgesprächs mit folgenden Expert*innen diskutieren:\n\n\nStefan Tidow\, Berliner Staatssekretär für Umwelt und Klimaschutz\nRonny Meyer\, Staatsrat der Bremer Senatorin für Klimaschutz\, Umwelt\, Mobilität\, Stadtentwicklung und Wohnungsbau\nProf. Dr. Christian Calliess\, Mitglied Sachverständigenrat für Umweltfragen der Bundesregierung; FU Berlin\nModeration: Stephanie Stockklauser\n\nBegrüßung und Einleitung durch Georg P. Kössler MdA\, Sprecher für Umwelt und Klimaschutz der Grünen Fraktion Berlin. \n\n\nUm Anmeldung an buero.koessler@gruene-fraktion-berlin.de wird gebeten.\n\n\n 
URL:https://www.lisa-badum.de/termin/fachgespraech-klimavorbehalt/
END:VEVENT
END:VCALENDAR