BEGIN:VCALENDAR
VERSION:2.0
PRODID:-//Lisa Badum - ECPv6.3.1//NONSGML v1.0//EN
CALSCALE:GREGORIAN
METHOD:PUBLISH
X-WR-CALNAME:Lisa Badum
X-ORIGINAL-URL:https://www.lisa-badum.de
X-WR-CALDESC:Veranstaltungen für Lisa Badum
REFRESH-INTERVAL;VALUE=DURATION:PT1H
X-Robots-Tag:noindex
X-PUBLISHED-TTL:PT1H
BEGIN:VTIMEZONE
TZID:Europe/Berlin
BEGIN:DAYLIGHT
TZOFFSETFROM:+0100
TZOFFSETTO:+0200
TZNAME:CEST
DTSTART:20190331T010000
END:DAYLIGHT
BEGIN:STANDARD
TZOFFSETFROM:+0200
TZOFFSETTO:+0100
TZNAME:CET
DTSTART:20191027T010000
END:STANDARD
END:VTIMEZONE
BEGIN:VEVENT
DTSTART;TZID=Europe/Berlin:20191119T173000
DTEND;TZID=Europe/Berlin:20191119T200000
DTSTAMP:20260421T155137
CREATED:20190822T113117Z
LAST-MODIFIED:20190822T113117Z
UID:5682-1574184600-1574193600@www.lisa-badum.de
SUMMARY:Podiumsdiskussion "Automobilstandort Deutschland - Quo Vadis "
DESCRIPTION:Bamberg
URL:https://www.lisa-badum.de/termin/podiumsdiskussion-automobilstandort-deutschland-quo-vadis/
END:VEVENT
END:VCALENDAR