BEGIN:VCALENDAR
VERSION:2.0
PRODID:-//Lisa Badum - ECPv6.3.1//NONSGML v1.0//EN
CALSCALE:GREGORIAN
METHOD:PUBLISH
X-ORIGINAL-URL:https://www.lisa-badum.de
X-WR-CALDESC:Veranstaltungen für Lisa Badum
REFRESH-INTERVAL;VALUE=DURATION:PT1H
X-Robots-Tag:noindex
X-PUBLISHED-TTL:PT1H
BEGIN:VTIMEZONE
TZID:Europe/Berlin
BEGIN:DAYLIGHT
TZOFFSETFROM:+0100
TZOFFSETTO:+0200
TZNAME:CEST
DTSTART:20190331T010000
END:DAYLIGHT
BEGIN:STANDARD
TZOFFSETFROM:+0200
TZOFFSETTO:+0100
TZNAME:CET
DTSTART:20191027T010000
END:STANDARD
END:VTIMEZONE
BEGIN:VEVENT
DTSTART;TZID=Europe/Berlin:20191109T110000
DTEND;TZID=Europe/Berlin:20191109T130000
DTSTAMP:20260421T155842
CREATED:20191105T095541Z
LAST-MODIFIED:20191105T095541Z
UID:6654-1573297200-1573304400@www.lisa-badum.de
SUMMARY:Grüner Frauenstammtisch Forchheim
DESCRIPTION:Klimawende für Forchheim \nWas wir Frauen für ein gutes Klima in Forchheim tun können (und auch schon tun!) \nHerzliche Einladung zum Grünen Frauenstammtisch im Grünen Büro Forchheim \nDer Stammtisch ist für alle interessierten Frauen offen.\nWir freuen uns auf den Austausch und tolle Ideen für Forchheim! \nEure Lisa und Barbara
URL:https://www.lisa-badum.de/termin/gruener-frauenstammtisch-forchheim/
LOCATION:Grüne Geschäftsstelle Forchheim\, Paradeplatz 19\, Forchheim\, 91301\, Deutschland
END:VEVENT
END:VCALENDAR