BEGIN:VCALENDAR
VERSION:2.0
PRODID:-//Lisa Badum - ECPv6.3.1//NONSGML v1.0//EN
CALSCALE:GREGORIAN
METHOD:PUBLISH
X-ORIGINAL-URL:https://www.lisa-badum.de
X-WR-CALDESC:Veranstaltungen für Lisa Badum
REFRESH-INTERVAL;VALUE=DURATION:PT1H
X-Robots-Tag:noindex
X-PUBLISHED-TTL:PT1H
BEGIN:VTIMEZONE
TZID:Europe/Berlin
BEGIN:DAYLIGHT
TZOFFSETFROM:+0100
TZOFFSETTO:+0200
TZNAME:CEST
DTSTART:20190331T010000
END:DAYLIGHT
BEGIN:STANDARD
TZOFFSETFROM:+0200
TZOFFSETTO:+0100
TZNAME:CET
DTSTART:20191027T010000
END:STANDARD
END:VTIMEZONE
BEGIN:VEVENT
DTSTART;TZID=Europe/Berlin:20191026T100000
DTEND;TZID=Europe/Berlin:20191026T130000
DTSTAMP:20260421T174056
CREATED:20190822T112716Z
LAST-MODIFIED:20190822T112716Z
UID:5676-1572084000-1572094800@www.lisa-badum.de
SUMMARY:Bürger*innensprechstunde in Coburg
DESCRIPTION:
URL:https://www.lisa-badum.de/termin/buergerinnensprechstunde-in-coburg-2/
LOCATION:Grünes Büro Coburg\, Steintor 1\, Coburg\, 96450\, Deutschland
END:VEVENT
END:VCALENDAR