BEGIN:VCALENDAR
VERSION:2.0
PRODID:-//Lisa Badum - ECPv6.3.1//NONSGML v1.0//EN
CALSCALE:GREGORIAN
METHOD:PUBLISH
X-WR-CALNAME:Lisa Badum
X-ORIGINAL-URL:https://www.lisa-badum.de
X-WR-CALDESC:Veranstaltungen für Lisa Badum
REFRESH-INTERVAL;VALUE=DURATION:PT1H
X-Robots-Tag:noindex
X-PUBLISHED-TTL:PT1H
BEGIN:VTIMEZONE
TZID:Europe/Berlin
BEGIN:DAYLIGHT
TZOFFSETFROM:+0100
TZOFFSETTO:+0200
TZNAME:CEST
DTSTART:20190331T010000
END:DAYLIGHT
BEGIN:STANDARD
TZOFFSETFROM:+0200
TZOFFSETTO:+0100
TZNAME:CET
DTSTART:20191027T010000
END:STANDARD
END:VTIMEZONE
BEGIN:VEVENT
DTSTART;TZID=Europe/Berlin:20190930T180000
DTEND;TZID=Europe/Berlin:20190930T210000
DTSTAMP:20260421T173857
CREATED:20190704T113636Z
LAST-MODIFIED:20190924T084203Z
UID:5331-1569866400-1569877200@www.lisa-badum.de
SUMMARY:Kamingespräch mit Cem: Zukunft der Mobilität in Bamberg
DESCRIPTION:Unter dem Titel „Zukunft der Mobilität in der Region Bamberg“ gibt Cem Özdemir\, Vorsitzender des Verkehrsausschusses des Deutschen Bundestages einen Impuls für das Kamingespräch. Anschließend diskutiert er gemeinsame mit Lisa Badum\, MdB\, klimapolitische Sprecherin der Fraktion Bündnis 90/Die Grünen und Martin Schultz\, Kaufmännischer Werksleiter am Bosch Standort Bamberg zum Thema. Das Grußwort übernimmt Jonas Glüsenkamp\, grüner OB-Kandidat für Bamberg. \n  \nDie Zukunft des Automobils ist elektromobil\, ob batterie- oder wasserstoffgetrieben. Eine Entwicklung\, die sich auch am Weltmarkt spiegelt und einen wesentlichen Beitrag zum Klimaschutz leistet. Wie gelingt es\, diese Transformation ökologisch und sozial zu gestalten? Wie gelingt es\, die Automobilbranche wettbewerbsfähig und zukunftssicher aufzustellen? Und wie kann es gelingen\, wertvolle Arbeitsplätze in der Region zu sichern? \n  \nDiese und weitere Fragen diskutieren Cem Özdemir\, Lisa Badum und Martin Schultz gemeinsam mit Ihnen. Für musikalische Unterhaltung sorgt die „Jazzküche“. \n  \nUm Anmeldung per Mail an lisa.badum.ma07[at]bundestag.de wird gebeten.
URL:https://www.lisa-badum.de/termin/kamingespraech-mit-cem/
LOCATION:Vogelsaal\, Naturkundemuseum Bamberg\, Fleischstraße 2\, Bamberg\, 96047\, Deutschland
END:VEVENT
END:VCALENDAR