BEGIN:VCALENDAR
VERSION:2.0
PRODID:-//Lisa Badum - ECPv6.3.1//NONSGML v1.0//EN
CALSCALE:GREGORIAN
METHOD:PUBLISH
X-ORIGINAL-URL:https://www.lisa-badum.de
X-WR-CALDESC:Veranstaltungen für Lisa Badum
REFRESH-INTERVAL;VALUE=DURATION:PT1H
X-Robots-Tag:noindex
X-PUBLISHED-TTL:PT1H
BEGIN:VTIMEZONE
TZID:Europe/Berlin
BEGIN:DAYLIGHT
TZOFFSETFROM:+0100
TZOFFSETTO:+0200
TZNAME:CEST
DTSTART:20190331T010000
END:DAYLIGHT
BEGIN:STANDARD
TZOFFSETFROM:+0200
TZOFFSETTO:+0100
TZNAME:CET
DTSTART:20191027T010000
END:STANDARD
END:VTIMEZONE
BEGIN:VEVENT
DTSTART;TZID=Europe/Berlin:20190720T180000
DTEND;TZID=Europe/Berlin:20190720T220000
DTSTAMP:20260421T230404
CREATED:20190702T085748Z
LAST-MODIFIED:20190702T085749Z
UID:5306-1563645600-1563660000@www.lisa-badum.de
SUMMARY:GAL-Sommerfest mit Katha Schulze
DESCRIPTION:Böhmerwiese \nBamberg
URL:https://www.lisa-badum.de/termin/gal-sommerfest-mit-katha-schulze/
END:VEVENT
END:VCALENDAR