BEGIN:VCALENDAR
VERSION:2.0
PRODID:-//Lisa Badum - ECPv6.3.1//NONSGML v1.0//EN
CALSCALE:GREGORIAN
METHOD:PUBLISH
X-ORIGINAL-URL:https://www.lisa-badum.de
X-WR-CALDESC:Veranstaltungen für Lisa Badum
REFRESH-INTERVAL;VALUE=DURATION:PT1H
X-Robots-Tag:noindex
X-PUBLISHED-TTL:PT1H
BEGIN:VTIMEZONE
TZID:Europe/Berlin
BEGIN:DAYLIGHT
TZOFFSETFROM:+0100
TZOFFSETTO:+0200
TZNAME:CEST
DTSTART:20190331T010000
END:DAYLIGHT
BEGIN:STANDARD
TZOFFSETFROM:+0200
TZOFFSETTO:+0100
TZNAME:CET
DTSTART:20191027T010000
END:STANDARD
END:VTIMEZONE
BEGIN:VEVENT
DTSTART;TZID=Europe/Berlin:20190711T193000
DTEND;TZID=Europe/Berlin:20190711T213000
DTSTAMP:20260421T230558
CREATED:20190702T084331Z
LAST-MODIFIED:20190702T084331Z
UID:5298-1562873400-1562880600@www.lisa-badum.de
SUMMARY:OV Gründung Hausen/Heroldsbach
DESCRIPTION:Gasthaus Schwarzer Amboss in Hausen
URL:https://www.lisa-badum.de/termin/ov-gruendung-hausen-heroldsbach/
END:VEVENT
END:VCALENDAR