BEGIN:VCALENDAR
VERSION:2.0
PRODID:-//Lisa Badum - ECPv6.3.1//NONSGML v1.0//EN
CALSCALE:GREGORIAN
METHOD:PUBLISH
X-ORIGINAL-URL:https://www.lisa-badum.de
X-WR-CALDESC:Veranstaltungen für Lisa Badum
REFRESH-INTERVAL;VALUE=DURATION:PT1H
X-Robots-Tag:noindex
X-PUBLISHED-TTL:PT1H
BEGIN:VTIMEZONE
TZID:Europe/Berlin
BEGIN:DAYLIGHT
TZOFFSETFROM:+0100
TZOFFSETTO:+0200
TZNAME:CEST
DTSTART:20190331T010000
END:DAYLIGHT
BEGIN:STANDARD
TZOFFSETFROM:+0200
TZOFFSETTO:+0100
TZNAME:CET
DTSTART:20191027T010000
END:STANDARD
END:VTIMEZONE
BEGIN:VEVENT
DTSTART;TZID=Europe/Berlin:20190708T100000
DTEND;TZID=Europe/Berlin:20190708T113000
DTSTAMP:20260421T230404
CREATED:20190702T084002Z
LAST-MODIFIED:20190702T084002Z
UID:5296-1562580000-1562585400@www.lisa-badum.de
SUMMARY:Bürger*innensprechstunde in Bamberg
DESCRIPTION:
URL:https://www.lisa-badum.de/termin/buergerinnensprechstunde-in-bamberg/
LOCATION:BürgerInnenbüro Bamberg\, Luitpoldstraße 17\, Bamberg\, 96052
END:VEVENT
END:VCALENDAR