BEGIN:VCALENDAR
VERSION:2.0
PRODID:-//Lisa Badum - ECPv6.3.1//NONSGML v1.0//EN
CALSCALE:GREGORIAN
METHOD:PUBLISH
X-WR-CALNAME:Lisa Badum
X-ORIGINAL-URL:https://www.lisa-badum.de
X-WR-CALDESC:Veranstaltungen für Lisa Badum
REFRESH-INTERVAL;VALUE=DURATION:PT1H
X-Robots-Tag:noindex
X-PUBLISHED-TTL:PT1H
BEGIN:VTIMEZONE
TZID:Europe/Berlin
BEGIN:DAYLIGHT
TZOFFSETFROM:+0100
TZOFFSETTO:+0200
TZNAME:CEST
DTSTART:20190331T010000
END:DAYLIGHT
BEGIN:STANDARD
TZOFFSETFROM:+0200
TZOFFSETTO:+0100
TZNAME:CET
DTSTART:20191027T010000
END:STANDARD
END:VTIMEZONE
BEGIN:VEVENT
DTSTART;TZID=Europe/Berlin:20190702T190000
DTEND;TZID=Europe/Berlin:20190702T210000
DTSTAMP:20260421T230051
CREATED:20190702T083327Z
LAST-MODIFIED:20190702T083327Z
UID:5292-1562094000-1562101200@www.lisa-badum.de
SUMMARY:Bayerntour: Lisa unterwegs in Erlangen
DESCRIPTION:Café Grün beim KV Erlangen zum Thema „Klimanotstand – und jetzt?“ \n  \nHauptstraße 5\, Altstadtmarktpassage
URL:https://www.lisa-badum.de/termin/bayerntour-lisa-unterwegs-in-erlangen/
END:VEVENT
END:VCALENDAR