BEGIN:VCALENDAR
VERSION:2.0
PRODID:-//Lisa Badum - ECPv6.3.1//NONSGML v1.0//EN
CALSCALE:GREGORIAN
METHOD:PUBLISH
X-ORIGINAL-URL:https://www.lisa-badum.de
X-WR-CALDESC:Veranstaltungen für Lisa Badum
REFRESH-INTERVAL;VALUE=DURATION:PT1H
X-Robots-Tag:noindex
X-PUBLISHED-TTL:PT1H
BEGIN:VTIMEZONE
TZID:Europe/Berlin
BEGIN:DAYLIGHT
TZOFFSETFROM:+0100
TZOFFSETTO:+0200
TZNAME:CEST
DTSTART:20190331T010000
END:DAYLIGHT
BEGIN:STANDARD
TZOFFSETFROM:+0200
TZOFFSETTO:+0100
TZNAME:CET
DTSTART:20191027T010000
END:STANDARD
END:VTIMEZONE
BEGIN:VEVENT
DTSTART;VALUE=DATE:20190318
DTEND;VALUE=DATE:20190323
DTSTAMP:20260422T061420
CREATED:20190212T102054Z
LAST-MODIFIED:20190212T102054Z
UID:4054-1552867200-1553299199@www.lisa-badum.de
SUMMARY:Sitzungswoche
DESCRIPTION:
URL:https://www.lisa-badum.de/termin/sitzungswoche-16/
END:VEVENT
BEGIN:VEVENT
DTSTART;VALUE=DATE:20190321
DTEND;VALUE=DATE:20190322
DTSTAMP:20260422T061420
CREATED:20190321T103506Z
LAST-MODIFIED:20190321T103506Z
UID:4283-1553126400-1553212799@www.lisa-badum.de
SUMMARY:Internationaler Tag des Waldes
DESCRIPTION:
URL:https://www.lisa-badum.de/termin/internationaler-tag-des-waldes/
END:VEVENT
END:VCALENDAR