BEGIN:VCALENDAR
VERSION:2.0
PRODID:-//Lisa Badum - ECPv6.3.1//NONSGML v1.0//EN
CALSCALE:GREGORIAN
METHOD:PUBLISH
X-WR-CALNAME:Lisa Badum
X-ORIGINAL-URL:https://www.lisa-badum.de
X-WR-CALDESC:Veranstaltungen für Lisa Badum
REFRESH-INTERVAL;VALUE=DURATION:PT1H
X-Robots-Tag:noindex
X-PUBLISHED-TTL:PT1H
BEGIN:VTIMEZONE
TZID:Europe/Berlin
BEGIN:DAYLIGHT
TZOFFSETFROM:+0100
TZOFFSETTO:+0200
TZNAME:CEST
DTSTART:20180325T010000
END:DAYLIGHT
BEGIN:STANDARD
TZOFFSETFROM:+0200
TZOFFSETTO:+0100
TZNAME:CET
DTSTART:20181028T010000
END:STANDARD
END:VTIMEZONE
BEGIN:VEVENT
DTSTART;TZID=Europe/Berlin:20181219T183000
DTEND;TZID=Europe/Berlin:20181219T210000
DTSTAMP:20260422T113249
CREATED:20181207T095412Z
LAST-MODIFIED:20181207T095412Z
UID:3421-1545244200-1545253200@www.lisa-badum.de
SUMMARY:Kinoabend: Der Hambi ist das Wackersdorf der Kohleindustrie!
DESCRIPTION:„Wackersdorf“\nFilmvorführung mit anschließender Diskussion mit Zeitzeugen \nGAL Bamberg und Lisa Badum MdB \n19. Dezember\, 18:30 Uhr\nODEON Bamberg \nWackersdorf ist ein Plädoyer für demokratische Werte und Bürgerengagement\, es ist die Geburtsstunde zivilen Widerstandes in Deutschland. Und es ist heute so aktuell wie damals. Denn was Wackersdorf für die Atomindustrie war\, ist der Hambacher Wald für die Kohleindustrie. \nDer Hambacher Tagebau ist mit einer Fördermenge von 40 Millionen Tonnen der größte Braunkohletagebau Westeuropas. Seit den 70er Jahren wurden bereits vier anliegende Ortschaften umgesiedelt und noch immer hat RWE nicht genug: auch die letzten 550 Hektar des ursprünglich zehnfach so großen Hambacher Waldes sollen dem Ausbau des Tagebaus weichen. Doch der Widerstand wächst. Seit sechs Jahren besetzen Aktivist*innen den besonderen Mischwald\, zehntausende kamen zu friedlichen Demos und Protestaktionen. \nZwar konnte diesen Herbst ein Rodungsstopp erstritten werden\, aufatmen kann der Hambi und seine Aktivist*innen aber nur vorübergehend. Denn es geht um viel mehr als allein um den Wald. Die Proteste im Hambacher Wald sind zum Symbol des Widerstandes gegen die Kohleindustrie geworden. Denn nur der Kohleausstieg kann den Hambacher Wald nachhaltig retten! \nAndreas Lösche und Bernd Fricke\, beide Stadträte und Wackersdorf-Aktivisten der ersten Stunde\, und Silvestris\, Aktivist aus dem Hambi\, werden im Anschluss an die Filmvorführung von ihren Erfahrungen berichten und gemeinsam mit Jonas Glüsenkamp und Lisa Badum diskutieren: Was können wir von den Protesten in Wackersdorf lernen? Was können wir mit zivilem Widerstand erreichen? \nDer Eintritt kostet 5 Euro.\nFür GAL-Mitglieder ist der Eintritt kostenfrei. \nWACKERSDORF – DER FILM\nOberpfalz\, 1980er Jahre: Die Arbeitslosenzahlen steigen und der Landrat Hans Schuierer (Johannes Zeiler) steht unter Druck\, Perspektiven für die Bevölkerung zu schaffen. Da erscheinen ihm die Pläne der Bayerischen Staatsregierung wie ein Geschenk: In der beschaulichen Gemeinde Wackersdorf soll eine atomare Wiederaufbereitungsanlage (WAA) gebaut werden\, die wirtschaftlichen Aufschwung für die ganze Region verspricht. Doch als der Freistaat ohne rechtliche Grundlage mit Gewalt gegen Proteste einer Bürgerinitiative vorgeht\, die sich für den Erhalt der Natur in ihrer Heimat einsetzt\, steigen in Schuierer Zweifel auf. Vielleicht ist die Anlage doch nicht so harmlos wie behauptet. Er beginnt nachzuforschen und legt sich mit der mächtigen Strauß-Regierung an. Wackersdorf ist ein packendes Polit-Drama über die Hintergründe\, die zu dem legendären Protest gegen den Bau der WAA in der Oberpfalz führten. \nQuelle: http://www.wackersdorf-film.de/
URL:https://www.lisa-badum.de/termin/kinoabend-der-hambi-ist-das-wackersdorf-der-kohleindustrie/
LOCATION:Odeon Bamberg\, Luitpoldstraße 25\, Bamberg\, 96052
END:VEVENT
END:VCALENDAR