BEGIN:VCALENDAR
VERSION:2.0
PRODID:-//Lisa Badum - ECPv6.3.1//NONSGML v1.0//EN
CALSCALE:GREGORIAN
METHOD:PUBLISH
X-WR-CALNAME:Lisa Badum
X-ORIGINAL-URL:https://www.lisa-badum.de
X-WR-CALDESC:Veranstaltungen für Lisa Badum
REFRESH-INTERVAL;VALUE=DURATION:PT1H
X-Robots-Tag:noindex
X-PUBLISHED-TTL:PT1H
BEGIN:VTIMEZONE
TZID:Europe/Berlin
BEGIN:DAYLIGHT
TZOFFSETFROM:+0100
TZOFFSETTO:+0200
TZNAME:CEST
DTSTART:20180325T010000
END:DAYLIGHT
BEGIN:STANDARD
TZOFFSETFROM:+0200
TZOFFSETTO:+0100
TZNAME:CET
DTSTART:20181028T010000
END:STANDARD
END:VTIMEZONE
BEGIN:VEVENT
DTSTART;VALUE=DATE:20181015
DTEND;VALUE=DATE:20181020
DTSTAMP:20260422T145354
CREATED:20180813T083948Z
LAST-MODIFIED:20180813T083948Z
UID:2548-1539561600-1539993599@www.lisa-badum.de
SUMMARY:Sitzungswoche
DESCRIPTION:
URL:https://www.lisa-badum.de/termin/sitzungswoche-6/
LOCATION:Deutscher Bundestag\, Berlin\, Deutschland
END:VEVENT
BEGIN:VEVENT
DTSTART;TZID=Europe/Berlin:20181018T080000
DTEND;TZID=Europe/Berlin:20181018T093000
DTSTAMP:20260422T145354
CREATED:20181015T091917Z
LAST-MODIFIED:20181015T092011Z
UID:3057-1539849600-1539855000@www.lisa-badum.de
SUMMARY:Parlamentarisches Frühstück mit der schwedischen Botschaft
DESCRIPTION:Thema: \n„Schwedisch-deutsche Perspektiven der CO2-Bepreisung“
URL:https://www.lisa-badum.de/termin/parlamentarisches-fruehstueck-mit-der-schwedischen-botschaft/
LOCATION:Paul-Löbe-Haus Berlin
END:VEVENT
END:VCALENDAR