BEGIN:VCALENDAR
VERSION:2.0
PRODID:-//Lisa Badum - ECPv6.3.1//NONSGML v1.0//EN
CALSCALE:GREGORIAN
METHOD:PUBLISH
X-WR-CALNAME:Lisa Badum
X-ORIGINAL-URL:https://www.lisa-badum.de
X-WR-CALDESC:Veranstaltungen für Lisa Badum
REFRESH-INTERVAL;VALUE=DURATION:PT1H
X-Robots-Tag:noindex
X-PUBLISHED-TTL:PT1H
BEGIN:VTIMEZONE
TZID:Europe/Berlin
BEGIN:DAYLIGHT
TZOFFSETFROM:+0100
TZOFFSETTO:+0200
TZNAME:CEST
DTSTART:20180325T010000
END:DAYLIGHT
BEGIN:STANDARD
TZOFFSETFROM:+0200
TZOFFSETTO:+0100
TZNAME:CET
DTSTART:20181028T010000
END:STANDARD
END:VTIMEZONE
BEGIN:VEVENT
DTSTART;TZID=Europe/Berlin:20181003T110000
DTEND;TZID=Europe/Berlin:20181003T130000
DTSTAMP:20260422T145505
CREATED:20180918T075704Z
LAST-MODIFIED:20180918T075705Z
UID:2825-1538564400-1538571600@www.lisa-badum.de
SUMMARY:Mit Toni Hofreiter im Bamberger Land
DESCRIPTION:Verkehrs- und agrarpolitischer Frühschoppen mit Toni Hofreiter \n  \nDie Agrarwirtschaft befindet sich an einem Wendepunkt. Durch den Klimawandel müssen Landwirte mit mehr Dürren und Starkregen umgehen\, das wärmere Wetter gibt neuen Schädlingen Lebensraum und die Verbraucherinnen und Verbraucher fordern mehr und mehr giftfreie Lebensmittel und artgerechte Tierhaltung. Toni Hofreiter wird beim politischen Frühschoppen in Baunach zu diesen Themen sprechen.
URL:https://www.lisa-badum.de/termin/mit-toni-hofreiter-im-bamberger-land/
LOCATION:Gasthaus Obleyhof\, Baunach\, Baunach\, Deutschland
END:VEVENT
END:VCALENDAR