BEGIN:VCALENDAR
VERSION:2.0
PRODID:-//Lisa Badum - ECPv6.3.1//NONSGML v1.0//EN
CALSCALE:GREGORIAN
METHOD:PUBLISH
X-WR-CALNAME:Lisa Badum
X-ORIGINAL-URL:https://www.lisa-badum.de
X-WR-CALDESC:Veranstaltungen für Lisa Badum
REFRESH-INTERVAL;VALUE=DURATION:PT1H
X-Robots-Tag:noindex
X-PUBLISHED-TTL:PT1H
BEGIN:VTIMEZONE
TZID:Europe/Berlin
BEGIN:DAYLIGHT
TZOFFSETFROM:+0100
TZOFFSETTO:+0200
TZNAME:CEST
DTSTART:20180325T010000
END:DAYLIGHT
BEGIN:STANDARD
TZOFFSETFROM:+0200
TZOFFSETTO:+0100
TZNAME:CET
DTSTART:20181028T010000
END:STANDARD
END:VTIMEZONE
BEGIN:VEVENT
DTSTART;TZID=Europe/Berlin:20180922T100000
DTEND;TZID=Europe/Berlin:20180922T120000
DTSTAMP:20260424T222908
CREATED:20180918T075108Z
LAST-MODIFIED:20180918T075108Z
UID:2817-1537610400-1537617600@www.lisa-badum.de
SUMMARY:Grüner Jugend Bus in Forchheim
DESCRIPTION:
URL:https://www.lisa-badum.de/termin/gruener-jugend-bus-in-forchheim/
LOCATION:Paradeplatz Forchheim\, Forchheim\, 91301\, Deutschland
END:VEVENT
END:VCALENDAR